BEGIN:VCALENDAR
VERSION:2.0
PRODID:-//Lycoming County Visitor&#039;s Bureau - ECPv6.15.20//NONSGML v1.0//EN
CALSCALE:GREGORIAN
METHOD:PUBLISH
X-WR-CALNAME:Lycoming County Visitor&#039;s Bureau
X-ORIGINAL-URL:https://visitlycomingcounty.com
X-WR-CALDESC:Events for Lycoming County Visitor&#039;s Bureau
REFRESH-INTERVAL;VALUE=DURATION:PT1H
X-Robots-Tag:noindex
X-PUBLISHED-TTL:PT1H
BEGIN:VTIMEZONE
TZID:America/New_York
BEGIN:DAYLIGHT
TZOFFSETFROM:-0500
TZOFFSETTO:-0400
TZNAME:EDT
DTSTART:20250309T070000
END:DAYLIGHT
BEGIN:STANDARD
TZOFFSETFROM:-0400
TZOFFSETTO:-0500
TZNAME:EST
DTSTART:20251102T060000
END:STANDARD
BEGIN:DAYLIGHT
TZOFFSETFROM:-0500
TZOFFSETTO:-0400
TZNAME:EDT
DTSTART:20260308T070000
END:DAYLIGHT
BEGIN:STANDARD
TZOFFSETFROM:-0400
TZOFFSETTO:-0500
TZNAME:EST
DTSTART:20261101T060000
END:STANDARD
BEGIN:DAYLIGHT
TZOFFSETFROM:-0500
TZOFFSETTO:-0400
TZNAME:EDT
DTSTART:20270314T070000
END:DAYLIGHT
BEGIN:STANDARD
TZOFFSETFROM:-0400
TZOFFSETTO:-0500
TZNAME:EST
DTSTART:20271107T060000
END:STANDARD
END:VTIMEZONE
BEGIN:VEVENT
DTSTART;TZID=America/New_York:20260710T183000
DTEND;TZID=America/New_York:20260710T200000
DTSTAMP:20260419T074532
CREATED:20260411T163135Z
LAST-MODIFIED:20260411T163135Z
UID:10005268-1783708200-1783713600@visitlycomingcounty.com
SUMMARY:Crosscutters Baseball
DESCRIPTION:Come out and cheer for our Crosscutters as they play against Trenton Thunder.
URL:https://visitlycomingcounty.com/event/crosscutters-baseball-5/2026-07-10/
LOCATION:Journey Bank Ballpark\, 1700 West Fourth St\, Williamsport\, PA\, 17701\, United States
CATEGORIES:Events,Sports
ATTACH;FMTTYPE=image/jpeg:https://visitlycomingcounty.com/wp-content/uploads/2026/04/crosscutters.jpg
END:VEVENT
BEGIN:VEVENT
DTSTART;TZID=America/New_York:20260711T183000
DTEND;TZID=America/New_York:20260711T200000
DTSTAMP:20260419T074532
CREATED:20260411T163135Z
LAST-MODIFIED:20260411T163135Z
UID:10005269-1783794600-1783800000@visitlycomingcounty.com
SUMMARY:Crosscutters Baseball
DESCRIPTION:Come out and cheer for our Crosscutters as they play against Trenton Thunder.
URL:https://visitlycomingcounty.com/event/crosscutters-baseball-5/2026-07-11/
LOCATION:Journey Bank Ballpark\, 1700 West Fourth St\, Williamsport\, PA\, 17701\, United States
CATEGORIES:Events,Sports
ATTACH;FMTTYPE=image/jpeg:https://visitlycomingcounty.com/wp-content/uploads/2026/04/crosscutters.jpg
END:VEVENT
BEGIN:VEVENT
DTSTART;TZID=America/New_York:20260712T160000
DTEND;TZID=America/New_York:20260712T183000
DTSTAMP:20260419T074532
CREATED:20260411T163135Z
LAST-MODIFIED:20260411T163135Z
UID:10005270-1783872000-1783881000@visitlycomingcounty.com
SUMMARY:Crosscutters Baseball
DESCRIPTION:Come out and cheer for our Crosscutters as they play against Trenton Thunder.
URL:https://visitlycomingcounty.com/event/crosscutters-baseball-5/2026-07-12/
LOCATION:Journey Bank Ballpark\, 1700 West Fourth St\, Williamsport\, PA\, 17701\, United States
CATEGORIES:Events,Sports
ATTACH;FMTTYPE=image/jpeg:https://visitlycomingcounty.com/wp-content/uploads/2026/04/crosscutters.jpg
END:VEVENT
BEGIN:VEVENT
DTSTART;TZID=America/New_York:20260717T183000
DTEND;TZID=America/New_York:20260717T200000
DTSTAMP:20260419T074532
CREATED:20260411T163135Z
LAST-MODIFIED:20260411T163135Z
UID:10005271-1784313000-1784318400@visitlycomingcounty.com
SUMMARY:Crosscutters Baseball
DESCRIPTION:Come out and cheer for our Crosscutters as they play against Trenton Thunder.
URL:https://visitlycomingcounty.com/event/crosscutters-baseball-5/2026-07-17/
LOCATION:Journey Bank Ballpark\, 1700 West Fourth St\, Williamsport\, PA\, 17701\, United States
CATEGORIES:Events,Sports
ATTACH;FMTTYPE=image/jpeg:https://visitlycomingcounty.com/wp-content/uploads/2026/04/crosscutters.jpg
END:VEVENT
BEGIN:VEVENT
DTSTART;TZID=America/New_York:20260718T183000
DTEND;TZID=America/New_York:20260718T200000
DTSTAMP:20260419T074532
CREATED:20260411T163135Z
LAST-MODIFIED:20260411T163135Z
UID:10005272-1784399400-1784404800@visitlycomingcounty.com
SUMMARY:Crosscutters Baseball
DESCRIPTION:Come out and cheer for our Crosscutters as they play against Trenton Thunder.
URL:https://visitlycomingcounty.com/event/crosscutters-baseball-5/2026-07-18/
LOCATION:Journey Bank Ballpark\, 1700 West Fourth St\, Williamsport\, PA\, 17701\, United States
CATEGORIES:Events,Sports
ATTACH;FMTTYPE=image/jpeg:https://visitlycomingcounty.com/wp-content/uploads/2026/04/crosscutters.jpg
END:VEVENT
BEGIN:VEVENT
DTSTART;TZID=America/New_York:20260719T160000
DTEND;TZID=America/New_York:20260719T180000
DTSTAMP:20260419T074532
CREATED:20260411T163135Z
LAST-MODIFIED:20260411T163135Z
UID:10005273-1784476800-1784484000@visitlycomingcounty.com
SUMMARY:Crosscutters Baseball
DESCRIPTION:Come out and cheer for our Crosscutters as they play against Trenton Thunder.
URL:https://visitlycomingcounty.com/event/crosscutters-baseball-5/2026-07-19/
LOCATION:Journey Bank Ballpark\, 1700 West Fourth St\, Williamsport\, PA\, 17701\, United States
CATEGORIES:Events,Sports
ATTACH;FMTTYPE=image/jpeg:https://visitlycomingcounty.com/wp-content/uploads/2026/04/crosscutters.jpg
END:VEVENT
BEGIN:VEVENT
DTSTART;TZID=America/New_York:20260801T183000
DTEND;TZID=America/New_York:20260801T200000
DTSTAMP:20260419T074532
CREATED:20260411T163135Z
LAST-MODIFIED:20260411T163135Z
UID:10005274-1785609000-1785614400@visitlycomingcounty.com
SUMMARY:Crosscutters Baseball
DESCRIPTION:Come out and cheer for our Crosscutters as they play against Trenton Thunder.
URL:https://visitlycomingcounty.com/event/crosscutters-baseball-5/2026-08-01/
LOCATION:Journey Bank Ballpark\, 1700 West Fourth St\, Williamsport\, PA\, 17701\, United States
CATEGORIES:Events,Sports
ATTACH;FMTTYPE=image/jpeg:https://visitlycomingcounty.com/wp-content/uploads/2026/04/crosscutters.jpg
END:VEVENT
BEGIN:VEVENT
DTSTART;TZID=America/New_York:20260802T160000
DTEND;TZID=America/New_York:20260802T180000
DTSTAMP:20260419T074532
CREATED:20260411T163135Z
LAST-MODIFIED:20260411T163135Z
UID:10005275-1785686400-1785693600@visitlycomingcounty.com
SUMMARY:Crosscutters Baseball
DESCRIPTION:Come out and cheer for our Crosscutters as they play against Trenton Thunder.
URL:https://visitlycomingcounty.com/event/crosscutters-baseball-5/2026-08-02/
LOCATION:Journey Bank Ballpark\, 1700 West Fourth St\, Williamsport\, PA\, 17701\, United States
CATEGORIES:Events,Sports
ATTACH;FMTTYPE=image/jpeg:https://visitlycomingcounty.com/wp-content/uploads/2026/04/crosscutters.jpg
END:VEVENT
END:VCALENDAR