BEGIN:VCALENDAR
VERSION:2.0
PRODID:-//Lycoming County Visitor&#039;s Bureau - ECPv6.15.20//NONSGML v1.0//EN
CALSCALE:GREGORIAN
METHOD:PUBLISH
X-WR-CALNAME:Lycoming County Visitor&#039;s Bureau
X-ORIGINAL-URL:https://visitlycomingcounty.com
X-WR-CALDESC:Events for Lycoming County Visitor&#039;s Bureau
REFRESH-INTERVAL;VALUE=DURATION:PT1H
X-Robots-Tag:noindex
X-PUBLISHED-TTL:PT1H
BEGIN:VTIMEZONE
TZID:America/New_York
BEGIN:DAYLIGHT
TZOFFSETFROM:-0500
TZOFFSETTO:-0400
TZNAME:EDT
DTSTART:20230312T070000
END:DAYLIGHT
BEGIN:STANDARD
TZOFFSETFROM:-0400
TZOFFSETTO:-0500
TZNAME:EST
DTSTART:20231105T060000
END:STANDARD
BEGIN:DAYLIGHT
TZOFFSETFROM:-0500
TZOFFSETTO:-0400
TZNAME:EDT
DTSTART:20240310T070000
END:DAYLIGHT
BEGIN:STANDARD
TZOFFSETFROM:-0400
TZOFFSETTO:-0500
TZNAME:EST
DTSTART:20241103T060000
END:STANDARD
BEGIN:DAYLIGHT
TZOFFSETFROM:-0500
TZOFFSETTO:-0400
TZNAME:EDT
DTSTART:20250309T070000
END:DAYLIGHT
BEGIN:STANDARD
TZOFFSETFROM:-0400
TZOFFSETTO:-0500
TZNAME:EST
DTSTART:20251102T060000
END:STANDARD
END:VTIMEZONE
BEGIN:VEVENT
DTSTART;TZID=America/New_York:20240706T180000
DTEND;TZID=America/New_York:20240706T200000
DTSTAMP:20260421T041847
CREATED:20240403T182533Z
LAST-MODIFIED:20240813T161024Z
UID:10000282-1720288800-1720296000@visitlycomingcounty.com
SUMMARY:Date Night Cruise with Izzy and Isabella
DESCRIPTION:Enjoy an evening cruise on the Hiawatha with Izzy and Isabella.
URL:https://visitlycomingcounty.com/event/date-night-cruise-with-izzy-and-isabella-2024-08-10/2024-07-06/
LOCATION:PA
CATEGORIES:Events
ATTACH;FMTTYPE=image/jpeg:https://visitlycomingcounty.com/wp-content/uploads/2024/08/Hiawatha-with-logo.jpg
END:VEVENT
BEGIN:VEVENT
DTSTART;TZID=America/New_York:20240709T080000
DTEND;TZID=America/New_York:20240709T170000
DTSTAMP:20260421T041847
CREATED:20210612T183650Z
LAST-MODIFIED:20240911T145914Z
UID:10003839-1720512000-1720544400@visitlycomingcounty.com
SUMMARY:Kid's Night Cruise
DESCRIPTION:Perfect for A Family Night Out – Join us for a good old fashioned ice cream social while you cruise down the Susquehanna River on this hour and a half cruise with a make-your-own sundae bar.\n 
URL:https://visitlycomingcounty.com/event/hiawatha-kids-night-cruise-2024-08-27/2024-07-09/
LOCATION:PA
ATTACH;FMTTYPE=image/jpeg:https://visitlycomingcounty.com/wp-content/uploads/2024/08/Hiawatha2002-2.jpg
END:VEVENT
BEGIN:VEVENT
DTSTART;TZID=America/New_York:20240709T180000
DTEND;TZID=America/New_York:20240709T193000
DTSTAMP:20260421T041847
CREATED:20210612T183650Z
LAST-MODIFIED:20240813T161001Z
UID:10000243-1720548000-1720553400@visitlycomingcounty.com
SUMMARY:Kid's Night Cruise
DESCRIPTION:Perfect for A Family Night Out – Join us for a good old fashioned ice cream social while you cruise down the Susquehanna River on this hour and a half cruise with a make-your-own sundae bar.\n 
URL:https://visitlycomingcounty.com/event/hiawatha-kids-night-cruise-2024-08-06/2024-07-09/
LOCATION:PA
ATTACH;FMTTYPE=image/jpeg:https://visitlycomingcounty.com/wp-content/uploads/2024/08/hiawatha-sign-4.jpg
END:VEVENT
BEGIN:VEVENT
DTSTART;TZID=America/New_York:20240715T180000
DTEND;TZID=America/New_York:20240715T200000
DTSTAMP:20260421T041847
CREATED:20230606T204806Z
LAST-MODIFIED:20240813T161011Z
UID:10000277-1721066400-1721073600@visitlycomingcounty.com
SUMMARY:Bingo Cruises
DESCRIPTION:Bingo on the Hiawatha! Evening Bingo is from 6-8 p.m. Tickets – $25 per person Must be at least 18 years old with valid ID Ticket includes: 2 hour cruise\, Up to 10 games of bingo/3 boards per game \, light snacks\, and one complimentary drink.
URL:https://visitlycomingcounty.com/event/bingo-cruises-2024-08-05/2024-07-15/
LOCATION:PA
CATEGORIES:Events
ATTACH;FMTTYPE=image/jpeg:https://visitlycomingcounty.com/wp-content/uploads/2024/08/Hiawatha2002-square.jpg
END:VEVENT
BEGIN:VEVENT
DTSTART;TZID=America/New_York:20240716T080000
DTEND;TZID=America/New_York:20240716T170000
DTSTAMP:20260421T041847
CREATED:20210612T183650Z
LAST-MODIFIED:20240911T145914Z
UID:10003840-1721116800-1721149200@visitlycomingcounty.com
SUMMARY:Kid's Night Cruise
DESCRIPTION:Perfect for A Family Night Out – Join us for a good old fashioned ice cream social while you cruise down the Susquehanna River on this hour and a half cruise with a make-your-own sundae bar.\n 
URL:https://visitlycomingcounty.com/event/hiawatha-kids-night-cruise-2024-08-27/2024-07-16/
LOCATION:PA
ATTACH;FMTTYPE=image/jpeg:https://visitlycomingcounty.com/wp-content/uploads/2024/08/Hiawatha2002-2.jpg
END:VEVENT
BEGIN:VEVENT
DTSTART;TZID=America/New_York:20240716T180000
DTEND;TZID=America/New_York:20240716T193000
DTSTAMP:20260421T041847
CREATED:20210612T183650Z
LAST-MODIFIED:20240813T161001Z
UID:10000244-1721152800-1721158200@visitlycomingcounty.com
SUMMARY:Kid's Night Cruise
DESCRIPTION:Perfect for A Family Night Out – Join us for a good old fashioned ice cream social while you cruise down the Susquehanna River on this hour and a half cruise with a make-your-own sundae bar.\n 
URL:https://visitlycomingcounty.com/event/hiawatha-kids-night-cruise-2024-08-06/2024-07-16/
LOCATION:PA
ATTACH;FMTTYPE=image/jpeg:https://visitlycomingcounty.com/wp-content/uploads/2024/08/hiawatha-sign-4.jpg
END:VEVENT
BEGIN:VEVENT
DTSTART;VALUE=DATE:20240717
DTEND;VALUE=DATE:20240718
DTSTAMP:20260421T041847
CREATED:20240402T220245Z
LAST-MODIFIED:20240911T144611Z
UID:10003830-1721203200-1721235600@visitlycomingcounty.com
SUMMARY:Hiawatha Hero Cruise
DESCRIPTION:Kapow! Boom! Wham! Calling all heroes to defend the Hiawatha! Take the hero pledge\, practice your hero moves\, and enjoy a party on the upper deck with mask making and snacks. Join the Superheroes as they visit the Hiawatha for activities\, story-time and more.   Cruises are at 5:30 and 7:00.  Reservations are required.
URL:https://visitlycomingcounty.com/event/hiawatha-hero-cruise-2-2024-08-07/2024-07-17/
LOCATION:PA
ATTACH;FMTTYPE=image/jpeg:https://visitlycomingcounty.com/wp-content/uploads/2024/08/Hiawatha2002-2.jpg
END:VEVENT
BEGIN:VEVENT
DTSTART;TZID=America/New_York:20240725T080000
DTEND;TZID=America/New_York:20240725T170000
DTSTAMP:20260421T041847
CREATED:20230606T211357Z
LAST-MODIFIED:20240911T144752Z
UID:10003833-1721894400-1721926800@visitlycomingcounty.com
SUMMARY:Wing Night on the Hiawatha
DESCRIPTION:Enjoy one of our most popular cruises! – Enjoy a 2-hour cruise on the Susquehanna River with delicious fried wings from Boulevard Wing Spot\, your choice of 4 sauces\, and drink specials! – Ticket includes one dozen wings and a 1.5-hour cruise. – $25 Per Person.
URL:https://visitlycomingcounty.com/event/wing-night-on-the-hiawatha-2024-08-08/2024-07-25/
LOCATION:PA
CATEGORIES:Events
ATTACH;FMTTYPE=image/jpeg:https://visitlycomingcounty.com/wp-content/uploads/2024/08/Hiawatha2002-2.jpg
END:VEVENT
BEGIN:VEVENT
DTSTART;TZID=America/New_York:20240727T110000
DTEND;TZID=America/New_York:20240727T110000
DTSTAMP:20260421T041847
CREATED:20240102T224519Z
LAST-MODIFIED:20240813T160900Z
UID:10000086-1722078000-1722078000@visitlycomingcounty.com
SUMMARY:Komodo Dragon Feeding - Clyde Peeling's Reptiland
DESCRIPTION:Looking for a real wildlife experience?  Visit the last Saturday of the month to witness a special Komodo dragon feeding!  Keep in mind….this experience is not for everyone\, especially young children. \n  \n  \n\n\n\n\n\n\n 
URL:https://visitlycomingcounty.com/event/komodo-dragon-feeding-clyde-peelings-reptiland-2024-08-31/2024-07-27/
LOCATION:PA
CATEGORIES:Events
ATTACH;FMTTYPE=image/jpeg:https://visitlycomingcounty.com/wp-content/uploads/2024/08/Reptiland3-3.jpg
END:VEVENT
END:VCALENDAR