BEGIN:VCALENDAR
VERSION:2.0
PRODID:-//Lycoming County Visitor&#039;s Bureau - ECPv6.15.20//NONSGML v1.0//EN
CALSCALE:GREGORIAN
METHOD:PUBLISH
X-WR-CALNAME:Lycoming County Visitor&#039;s Bureau
X-ORIGINAL-URL:https://visitlycomingcounty.com
X-WR-CALDESC:Events for Lycoming County Visitor&#039;s Bureau
REFRESH-INTERVAL;VALUE=DURATION:PT1H
X-Robots-Tag:noindex
X-PUBLISHED-TTL:PT1H
BEGIN:VTIMEZONE
TZID:America/New_York
BEGIN:DAYLIGHT
TZOFFSETFROM:-0500
TZOFFSETTO:-0400
TZNAME:EDT
DTSTART:20250309T070000
END:DAYLIGHT
BEGIN:STANDARD
TZOFFSETFROM:-0400
TZOFFSETTO:-0500
TZNAME:EST
DTSTART:20251102T060000
END:STANDARD
BEGIN:DAYLIGHT
TZOFFSETFROM:-0500
TZOFFSETTO:-0400
TZNAME:EDT
DTSTART:20260308T070000
END:DAYLIGHT
BEGIN:STANDARD
TZOFFSETFROM:-0400
TZOFFSETTO:-0500
TZNAME:EST
DTSTART:20261101T060000
END:STANDARD
BEGIN:DAYLIGHT
TZOFFSETFROM:-0500
TZOFFSETTO:-0400
TZNAME:EDT
DTSTART:20270314T070000
END:DAYLIGHT
BEGIN:STANDARD
TZOFFSETFROM:-0400
TZOFFSETTO:-0500
TZNAME:EST
DTSTART:20271107T060000
END:STANDARD
END:VTIMEZONE
BEGIN:VEVENT
DTSTART;TZID=America/New_York:20260829T183000
DTEND;TZID=America/New_York:20260829T200000
DTSTAMP:20260421T022151
CREATED:20260411T161851Z
LAST-MODIFIED:20260411T161851Z
UID:10005261-1788028200-1788033600@visitlycomingcounty.com
SUMMARY:Crosscutters Baseball
DESCRIPTION:Come out and cheer for our Crosscutters as they play against the State College Spikes.
URL:https://visitlycomingcounty.com/event/crosscutters-baseball-3/2026-08-29/
LOCATION:Journey Bank Ballpark\, 1700 West Fourth St\, Williamsport\, PA\, 17701\, United States
CATEGORIES:Events,Sports
ATTACH;FMTTYPE=image/jpeg:https://visitlycomingcounty.com/wp-content/uploads/2026/04/crosscutters.jpg
END:VEVENT
BEGIN:VEVENT
DTSTART;TZID=America/New_York:20260831T183000
DTEND;TZID=America/New_York:20260831T200000
DTSTAMP:20260421T022151
CREATED:20260411T161851Z
LAST-MODIFIED:20260411T161851Z
UID:10005262-1788201000-1788206400@visitlycomingcounty.com
SUMMARY:Crosscutters Baseball
DESCRIPTION:Come out and cheer for our Crosscutters as they play against the State College Spikes.
URL:https://visitlycomingcounty.com/event/crosscutters-baseball-3/2026-08-31/
LOCATION:Journey Bank Ballpark\, 1700 West Fourth St\, Williamsport\, PA\, 17701\, United States
CATEGORIES:Events,Sports
ATTACH;FMTTYPE=image/jpeg:https://visitlycomingcounty.com/wp-content/uploads/2026/04/crosscutters.jpg
END:VEVENT
BEGIN:VEVENT
DTSTART;TZID=America/New_York:20260905T110000
DTEND;TZID=America/New_York:20260905T160000
DTSTAMP:20260421T022151
CREATED:20260225T180255Z
LAST-MODIFIED:20260401T162123Z
UID:10005210-1788606000-1788624000@visitlycomingcounty.com
SUMMARY:Williamsport Children's Book Festival
DESCRIPTION:Are you ready for a day of books\, games and fun?   Make plans to join us on Saturday\, September 5\, as we close down West 4th Street for the Williamsport Children’s Book Festival!   We will have all kinds of fun activities and books and you get to meet the authors who created those books!
URL:https://visitlycomingcounty.com/event/williamsport-childrens-book-festival/
LOCATION:Otto Bookstore\, 107 W. Fourth St.\, Williamsport\, 17701\, United States
CATEGORIES:Events
ATTACH;FMTTYPE=image/jpeg:https://visitlycomingcounty.com/wp-content/uploads/2026/02/Kids-book-festival.jpg
END:VEVENT
BEGIN:VEVENT
DTSTART;TZID=America/New_York:20260925T193000
DTEND;TZID=America/New_York:20260925T210000
DTSTAMP:20260421T022151
CREATED:20260414T140640Z
LAST-MODIFIED:20260414T140640Z
UID:10005277-1790364600-1790370000@visitlycomingcounty.com
SUMMARY:Outlander in Concert
DESCRIPTION:The officially licensed concert experience celebrating the global phenomenon. Outlander in Concert brings eight seasons of love\, legacy\, and destiny to life as a live orchestra performs.
URL:https://visitlycomingcounty.com/event/outlander-in-concert/
LOCATION:Journey Bank Community Arts Center\, 220 West Fourth St\, Williamsport\, PA\, 17701\, United States
CATEGORIES:Events,Theatre and the Arts
ATTACH;FMTTYPE=image/png:https://visitlycomingcounty.com/wp-content/uploads/2026/01/2400.127-Journey-Bank-CAC-Logo-4color-1.png
END:VEVENT
BEGIN:VEVENT
DTSTART;TZID=America/New_York:20261101T183000
DTEND;TZID=America/New_York:20261101T200000
DTSTAMP:20260421T022151
CREATED:20260414T141133Z
LAST-MODIFIED:20260414T141133Z
UID:10005278-1793557800-1793563200@visitlycomingcounty.com
SUMMARY:The Price is Right Live
DESCRIPTION:“Come on Down” to THE PRICE IS RIGHT LIVE™\, you could be next!  This family-friendly show is making its way to you\, get your tickets TODAY! This isn’t just any stage show- it’s an interactive\, non-televised\, live version of the iconic game show you know and love.
URL:https://visitlycomingcounty.com/event/the-price-is-right-live/
LOCATION:Journey Bank Community Arts Center\, 220 West Fourth St\, Williamsport\, PA\, 17701\, United States
CATEGORIES:Events,Theatre and the Arts
ATTACH;FMTTYPE=image/png:https://visitlycomingcounty.com/wp-content/uploads/2026/01/2400.127-Journey-Bank-CAC-Logo-4color-1.png
END:VEVENT
END:VCALENDAR