BEGIN:VCALENDAR
VERSION:2.0
PRODID:-//Lycoming County Visitor&#039;s Bureau - ECPv6.15.20//NONSGML v1.0//EN
CALSCALE:GREGORIAN
METHOD:PUBLISH
X-ORIGINAL-URL:https://visitlycomingcounty.com
X-WR-CALDESC:Events for Lycoming County Visitor&#039;s Bureau
REFRESH-INTERVAL;VALUE=DURATION:PT1H
X-Robots-Tag:noindex
X-PUBLISHED-TTL:PT1H
BEGIN:VTIMEZONE
TZID:America/New_York
BEGIN:DAYLIGHT
TZOFFSETFROM:-0500
TZOFFSETTO:-0400
TZNAME:EDT
DTSTART:20250309T070000
END:DAYLIGHT
BEGIN:STANDARD
TZOFFSETFROM:-0400
TZOFFSETTO:-0500
TZNAME:EST
DTSTART:20251102T060000
END:STANDARD
BEGIN:DAYLIGHT
TZOFFSETFROM:-0500
TZOFFSETTO:-0400
TZNAME:EDT
DTSTART:20260308T070000
END:DAYLIGHT
BEGIN:STANDARD
TZOFFSETFROM:-0400
TZOFFSETTO:-0500
TZNAME:EST
DTSTART:20261101T060000
END:STANDARD
BEGIN:DAYLIGHT
TZOFFSETFROM:-0500
TZOFFSETTO:-0400
TZNAME:EDT
DTSTART:20270314T070000
END:DAYLIGHT
BEGIN:STANDARD
TZOFFSETFROM:-0400
TZOFFSETTO:-0500
TZNAME:EST
DTSTART:20271107T060000
END:STANDARD
END:VTIMEZONE
BEGIN:VEVENT
DTSTART;VALUE=DATE:20260717
DTEND;VALUE=DATE:20260718
DTSTAMP:20260422T035756
CREATED:20260210T172350Z
LAST-MODIFIED:20260210T172350Z
UID:10004765-1784246400-1784332799@visitlycomingcounty.com
SUMMARY:ANASTASIA
DESCRIPTION:Inspired by the beloved animated film and the Broadway musical\, ANASTASIA is a sweeping story of identity\, courage\, and discovery. Set against post-revolutionary Russia and the glamour of 1920s Paris\, the musical follows Anya\, a young woman with no memory of her past\, as she embarks on a daring journey to uncover who she truly is. With soaring music\, dynamic ensemble moments\, and richly layered characters\, ANASTASIA offers extraordinary opportunities for young performers to shine.  This is a Community Encore Production which is a partnership between the Community Theatre League (CTL)\, Journey Bank Community Arts Center\, and Lycoming College’s Music and Theatre Departments.  Times to be determined.
URL:https://visitlycomingcounty.com/event/anastasia/2026-07-17/
LOCATION:Journey Bank Community Arts Center\, 220 West Fourth St\, Williamsport\, PA\, 17701\, United States
CATEGORIES:Events,Theatre and the Arts
ATTACH;FMTTYPE=image/jpeg:https://visitlycomingcounty.com/wp-content/uploads/2026/02/Anastasia-SOCIAL-ENCORE.jpg
END:VEVENT
BEGIN:VEVENT
DTSTART;VALUE=DATE:20260718
DTEND;VALUE=DATE:20260719
DTSTAMP:20260422T035756
CREATED:20260210T172350Z
LAST-MODIFIED:20260210T172350Z
UID:10004766-1784361600-1784394000@visitlycomingcounty.com
SUMMARY:ANASTASIA
DESCRIPTION:Inspired by the beloved animated film and the Broadway musical\, ANASTASIA is a sweeping story of identity\, courage\, and discovery. Set against post-revolutionary Russia and the glamour of 1920s Paris\, the musical follows Anya\, a young woman with no memory of her past\, as she embarks on a daring journey to uncover who she truly is. With soaring music\, dynamic ensemble moments\, and richly layered characters\, ANASTASIA offers extraordinary opportunities for young performers to shine.  This is a Community Encore Production which is a partnership between the Community Theatre League (CTL)\, Journey Bank Community Arts Center\, and Lycoming College’s Music and Theatre Departments.  Times to be determined.
URL:https://visitlycomingcounty.com/event/anastasia/2026-07-18/
LOCATION:Journey Bank Community Arts Center\, 220 West Fourth St\, Williamsport\, PA\, 17701\, United States
CATEGORIES:Events,Theatre and the Arts
ATTACH;FMTTYPE=image/jpeg:https://visitlycomingcounty.com/wp-content/uploads/2026/02/Anastasia-SOCIAL-ENCORE.jpg
END:VEVENT
BEGIN:VEVENT
DTSTART;VALUE=DATE:20260719
DTEND;VALUE=DATE:20260720
DTSTAMP:20260422T035756
CREATED:20260210T172350Z
LAST-MODIFIED:20260210T172350Z
UID:10004767-1784448000-1784480400@visitlycomingcounty.com
SUMMARY:ANASTASIA
DESCRIPTION:Inspired by the beloved animated film and the Broadway musical\, ANASTASIA is a sweeping story of identity\, courage\, and discovery. Set against post-revolutionary Russia and the glamour of 1920s Paris\, the musical follows Anya\, a young woman with no memory of her past\, as she embarks on a daring journey to uncover who she truly is. With soaring music\, dynamic ensemble moments\, and richly layered characters\, ANASTASIA offers extraordinary opportunities for young performers to shine.  This is a Community Encore Production which is a partnership between the Community Theatre League (CTL)\, Journey Bank Community Arts Center\, and Lycoming College’s Music and Theatre Departments.  Times to be determined.
URL:https://visitlycomingcounty.com/event/anastasia/2026-07-19/
LOCATION:Journey Bank Community Arts Center\, 220 West Fourth St\, Williamsport\, PA\, 17701\, United States
CATEGORIES:Events,Theatre and the Arts
ATTACH;FMTTYPE=image/jpeg:https://visitlycomingcounty.com/wp-content/uploads/2026/02/Anastasia-SOCIAL-ENCORE.jpg
END:VEVENT
BEGIN:VEVENT
DTSTART;TZID=America/New_York:20260802T193000
DTEND;TZID=America/New_York:20260802T213000
DTSTAMP:20260422T035756
CREATED:20260421T175640Z
LAST-MODIFIED:20260421T175840Z
UID:10005280-1785699000-1785706200@visitlycomingcounty.com
SUMMARY:Kicking in Your Stall: Gov't Mule Summer Tour
DESCRIPTION:Acclaimed GRAMMY-nominated band Gov’t Mule\, led by guitar legend\, vocalist\, songwriter\, and producer Warren Haynes\, has announced they will be coming to the Journey Bank Community Arts Center in Williamsport.  The Kicking In Your Stall Tour will take place on August 2nd.
URL:https://visitlycomingcounty.com/event/kicking-in-your-stall-govt-mule-summer-tour/
LOCATION:Journey Bank Community Arts Center\, 220 West Fourth St\, Williamsport\, PA\, 17701\, United States
CATEGORIES:Events,Theatre and the Arts
ATTACH;FMTTYPE=image/png:https://visitlycomingcounty.com/wp-content/uploads/2026/01/2400.127-Journey-Bank-CAC-Logo-4color-1.png
END:VEVENT
BEGIN:VEVENT
DTSTART;TZID=America/New_York:20260925T193000
DTEND;TZID=America/New_York:20260925T210000
DTSTAMP:20260422T035756
CREATED:20260414T140640Z
LAST-MODIFIED:20260414T140640Z
UID:10005277-1790364600-1790370000@visitlycomingcounty.com
SUMMARY:Outlander in Concert
DESCRIPTION:The officially licensed concert experience celebrating the global phenomenon. Outlander in Concert brings eight seasons of love\, legacy\, and destiny to life as a live orchestra performs.
URL:https://visitlycomingcounty.com/event/outlander-in-concert/
LOCATION:Journey Bank Community Arts Center\, 220 West Fourth St\, Williamsport\, PA\, 17701\, United States
CATEGORIES:Events,Theatre and the Arts
ATTACH;FMTTYPE=image/png:https://visitlycomingcounty.com/wp-content/uploads/2026/01/2400.127-Journey-Bank-CAC-Logo-4color-1.png
END:VEVENT
BEGIN:VEVENT
DTSTART;TZID=America/New_York:20261101T183000
DTEND;TZID=America/New_York:20261101T200000
DTSTAMP:20260422T035756
CREATED:20260414T141133Z
LAST-MODIFIED:20260414T141133Z
UID:10005278-1793557800-1793563200@visitlycomingcounty.com
SUMMARY:The Price is Right Live
DESCRIPTION:“Come on Down” to THE PRICE IS RIGHT LIVE™\, you could be next!  This family-friendly show is making its way to you\, get your tickets TODAY! This isn’t just any stage show- it’s an interactive\, non-televised\, live version of the iconic game show you know and love.
URL:https://visitlycomingcounty.com/event/the-price-is-right-live/
LOCATION:Journey Bank Community Arts Center\, 220 West Fourth St\, Williamsport\, PA\, 17701\, United States
CATEGORIES:Events,Theatre and the Arts
ATTACH;FMTTYPE=image/png:https://visitlycomingcounty.com/wp-content/uploads/2026/01/2400.127-Journey-Bank-CAC-Logo-4color-1.png
END:VEVENT
END:VCALENDAR