BEGIN:VCALENDAR
VERSION:2.0
PRODID:-//Lycoming County Visitor&#039;s Bureau - ECPv6.15.20//NONSGML v1.0//EN
CALSCALE:GREGORIAN
METHOD:PUBLISH
X-ORIGINAL-URL:https://visitlycomingcounty.com
X-WR-CALDESC:Events for Lycoming County Visitor&#039;s Bureau
REFRESH-INTERVAL;VALUE=DURATION:PT1H
X-Robots-Tag:noindex
X-PUBLISHED-TTL:PT1H
BEGIN:VTIMEZONE
TZID:America/New_York
BEGIN:DAYLIGHT
TZOFFSETFROM:-0500
TZOFFSETTO:-0400
TZNAME:EDT
DTSTART:20250309T070000
END:DAYLIGHT
BEGIN:STANDARD
TZOFFSETFROM:-0400
TZOFFSETTO:-0500
TZNAME:EST
DTSTART:20251102T060000
END:STANDARD
BEGIN:DAYLIGHT
TZOFFSETFROM:-0500
TZOFFSETTO:-0400
TZNAME:EDT
DTSTART:20260308T070000
END:DAYLIGHT
BEGIN:STANDARD
TZOFFSETFROM:-0400
TZOFFSETTO:-0500
TZNAME:EST
DTSTART:20261101T060000
END:STANDARD
BEGIN:DAYLIGHT
TZOFFSETFROM:-0500
TZOFFSETTO:-0400
TZNAME:EDT
DTSTART:20270314T070000
END:DAYLIGHT
BEGIN:STANDARD
TZOFFSETFROM:-0400
TZOFFSETTO:-0500
TZNAME:EST
DTSTART:20271107T060000
END:STANDARD
END:VTIMEZONE
BEGIN:VEVENT
DTSTART;TZID=America/New_York:20260424T193000
DTEND;TZID=America/New_York:20260424T213000
DTSTAMP:20260420T150645
CREATED:20260113T150833Z
LAST-MODIFIED:20260410T154354Z
UID:10004718-1777059000-1777066200@visitlycomingcounty.com
SUMMARY:Tapestry:  The Songs of Carole King & Friends
DESCRIPTION:The Uptown Music Collective closes its performance season with a two-night celebration of the songs that shaped hearts\, stirred souls\, and defined an era. Tapestry brings to life the timeless music of Carole King and the close circle of artists she inspired and collaborated with.
URL:https://visitlycomingcounty.com/event/tapestry-the-songs-of-carole-king-friends/2026-04-24/
LOCATION:Journey Bank Community Arts Center\, 220 West Fourth St\, Williamsport\, PA\, 17701\, United States
CATEGORIES:Events,Theatre and the Arts
ATTACH;FMTTYPE=image/jpeg:https://visitlycomingcounty.com/wp-content/uploads/2026/01/Tapestry-Uptown-Music-Collective-scaled.jpg
END:VEVENT
BEGIN:VEVENT
DTSTART;TZID=America/New_York:20260425T193000
DTEND;TZID=America/New_York:20260425T213000
DTSTAMP:20260420T150645
CREATED:20260113T150833Z
LAST-MODIFIED:20260410T154354Z
UID:10004719-1777145400-1777152600@visitlycomingcounty.com
SUMMARY:Tapestry:  The Songs of Carole King & Friends
DESCRIPTION:The Uptown Music Collective closes its performance season with a two-night celebration of the songs that shaped hearts\, stirred souls\, and defined an era. Tapestry brings to life the timeless music of Carole King and the close circle of artists she inspired and collaborated with.
URL:https://visitlycomingcounty.com/event/tapestry-the-songs-of-carole-king-friends/2026-04-25/
LOCATION:Journey Bank Community Arts Center\, 220 West Fourth St\, Williamsport\, PA\, 17701\, United States
CATEGORIES:Events,Theatre and the Arts
ATTACH;FMTTYPE=image/jpeg:https://visitlycomingcounty.com/wp-content/uploads/2026/01/Tapestry-Uptown-Music-Collective-scaled.jpg
END:VEVENT
BEGIN:VEVENT
DTSTART;TZID=America/New_York:20260507T193000
DTEND;TZID=America/New_York:20260507T213000
DTSTAMP:20260420T150645
CREATED:20260127T173955Z
LAST-MODIFIED:20260127T173955Z
UID:10004760-1778182200-1778189400@visitlycomingcounty.com
SUMMARY:America:  The Happy Trails Tour 2026
DESCRIPTION:America is a perennial classic-rock favorite who formed in 1970 and continue to deliver their timeless songs with powerful performances.
URL:https://visitlycomingcounty.com/event/america-the-happy-trails-tour-2026/
LOCATION:Journey Bank Community Arts Center\, 220 West Fourth St\, Williamsport\, PA\, 17701\, United States
CATEGORIES:Events,Theatre and the Arts
ATTACH;FMTTYPE=image/png:https://visitlycomingcounty.com/wp-content/uploads/2026/01/2400.127-Journey-Bank-CAC-Logo-4color-1.png
END:VEVENT
BEGIN:VEVENT
DTSTART;TZID=America/New_York:20260512T190000
DTEND;TZID=America/New_York:20260512T210000
DTSTAMP:20260420T150645
CREATED:20260113T151729Z
LAST-MODIFIED:20260113T151729Z
UID:10004722-1778612400-1778619600@visitlycomingcounty.com
SUMMARY:World Ballet Company:  Swan Lake
DESCRIPTION:The legendary tale of Swan Lake takes flight in a breathtaking production from World Ballet Company\, as fate and magic entwine in a timeless battle between good and evil.
URL:https://visitlycomingcounty.com/event/world-ballet-company-swan-lake/
LOCATION:Journey Bank Community Arts Center\, 220 West Fourth St\, Williamsport\, PA\, 17701\, United States
CATEGORIES:Events,Theatre and the Arts
ATTACH;FMTTYPE=image/png:https://visitlycomingcounty.com/wp-content/uploads/2026/01/2400.127-Journey-Bank-CAC-Logo-4color-1.png
END:VEVENT
BEGIN:VEVENT
DTSTART;TZID=America/New_York:20260519T193000
DTEND;TZID=America/New_York:20260519T213000
DTSTAMP:20260420T150645
CREATED:20260113T152129Z
LAST-MODIFIED:20260127T175419Z
UID:10004723-1779219000-1779226200@visitlycomingcounty.com
SUMMARY:Orchestral Wonders
DESCRIPTION:Enjoy classical music performed by the Williamsport Symphony Orchestra.
URL:https://visitlycomingcounty.com/event/orchestral-wonders/
LOCATION:Journey Bank Community Arts Center\, 220 West Fourth St\, Williamsport\, PA\, 17701\, United States
CATEGORIES:Events,Theatre and the Arts
ATTACH;FMTTYPE=image/png:https://visitlycomingcounty.com/wp-content/uploads/2026/01/WSO.png
END:VEVENT
BEGIN:VEVENT
DTSTART;TZID=America/New_York:20260607T193000
DTEND;TZID=America/New_York:20260607T213000
DTSTAMP:20260420T150645
CREATED:20260127T174439Z
LAST-MODIFIED:20260127T174439Z
UID:10004761-1780860600-1780867800@visitlycomingcounty.com
SUMMARY:Scotty McCreery Live in Concert
DESCRIPTION:Scotty McCreery has been a household name for nearly half his life\, ever since making history in 2011 as both the first country artist and the youngest male artist of any genre to debut his first studio album\, the Platinum-certified Clear as Day\, at No. 1 on the all-genre Billboard Top 200 Albums chart.
URL:https://visitlycomingcounty.com/event/scotty-mccreery-live-in-concert/
LOCATION:Journey Bank Community Arts Center\, 220 West Fourth St\, Williamsport\, PA\, 17701\, United States
CATEGORIES:Events,Theatre and the Arts
ATTACH;FMTTYPE=image/png:https://visitlycomingcounty.com/wp-content/uploads/2026/01/2400.127-Journey-Bank-CAC-Logo-4color-1.png
END:VEVENT
BEGIN:VEVENT
DTSTART;TZID=America/New_York:20260708T193000
DTEND;TZID=America/New_York:20260708T210000
DTSTAMP:20260420T150645
CREATED:20260414T140123Z
LAST-MODIFIED:20260414T140123Z
UID:10005276-1783539000-1783544400@visitlycomingcounty.com
SUMMARY:Todd Rundgren: Damned If I Do Tour 
DESCRIPTION:Born and raised in Philadelphia\, Todd Rundgren began playing guitar as a teenager\, going on to find and front The Nazz\, the quintessential `60’s psychedelic group. In 1969\, he left the band to pursue a solo career\, recording his debut offering\, the legendary Runt. But it was 1972’s seminal Something/Anything?\, on which he played all the instruments\, sang all the vocal parts\, and acted as his own producer\, that catapulted Todd into the superstar limelight\, prompting the press to unanimously dub him ‘Rock’s New Wunderkind’.
URL:https://visitlycomingcounty.com/event/todd-rundgren-damned-if-i-do-tour/
LOCATION:Journey Bank Community Arts Center\, 220 West Fourth St\, Williamsport\, PA\, 17701\, United States
CATEGORIES:Events,Theatre and the Arts
ATTACH;FMTTYPE=image/png:https://visitlycomingcounty.com/wp-content/uploads/2026/01/2400.127-Journey-Bank-CAC-Logo-4color-1.png
END:VEVENT
BEGIN:VEVENT
DTSTART;VALUE=DATE:20260717
DTEND;VALUE=DATE:20260718
DTSTAMP:20260420T150645
CREATED:20260210T172350Z
LAST-MODIFIED:20260210T172350Z
UID:10004765-1784246400-1784332799@visitlycomingcounty.com
SUMMARY:ANASTASIA
DESCRIPTION:Inspired by the beloved animated film and the Broadway musical\, ANASTASIA is a sweeping story of identity\, courage\, and discovery. Set against post-revolutionary Russia and the glamour of 1920s Paris\, the musical follows Anya\, a young woman with no memory of her past\, as she embarks on a daring journey to uncover who she truly is. With soaring music\, dynamic ensemble moments\, and richly layered characters\, ANASTASIA offers extraordinary opportunities for young performers to shine.  This is a Community Encore Production which is a partnership between the Community Theatre League (CTL)\, Journey Bank Community Arts Center\, and Lycoming College’s Music and Theatre Departments.  Times to be determined.
URL:https://visitlycomingcounty.com/event/anastasia/2026-07-17/
LOCATION:Journey Bank Community Arts Center\, 220 West Fourth St\, Williamsport\, PA\, 17701\, United States
CATEGORIES:Events,Theatre and the Arts
ATTACH;FMTTYPE=image/jpeg:https://visitlycomingcounty.com/wp-content/uploads/2026/02/Anastasia-SOCIAL-ENCORE.jpg
END:VEVENT
BEGIN:VEVENT
DTSTART;VALUE=DATE:20260718
DTEND;VALUE=DATE:20260719
DTSTAMP:20260420T150645
CREATED:20260210T172350Z
LAST-MODIFIED:20260210T172350Z
UID:10004766-1784361600-1784394000@visitlycomingcounty.com
SUMMARY:ANASTASIA
DESCRIPTION:Inspired by the beloved animated film and the Broadway musical\, ANASTASIA is a sweeping story of identity\, courage\, and discovery. Set against post-revolutionary Russia and the glamour of 1920s Paris\, the musical follows Anya\, a young woman with no memory of her past\, as she embarks on a daring journey to uncover who she truly is. With soaring music\, dynamic ensemble moments\, and richly layered characters\, ANASTASIA offers extraordinary opportunities for young performers to shine.  This is a Community Encore Production which is a partnership between the Community Theatre League (CTL)\, Journey Bank Community Arts Center\, and Lycoming College’s Music and Theatre Departments.  Times to be determined.
URL:https://visitlycomingcounty.com/event/anastasia/2026-07-18/
LOCATION:Journey Bank Community Arts Center\, 220 West Fourth St\, Williamsport\, PA\, 17701\, United States
CATEGORIES:Events,Theatre and the Arts
ATTACH;FMTTYPE=image/jpeg:https://visitlycomingcounty.com/wp-content/uploads/2026/02/Anastasia-SOCIAL-ENCORE.jpg
END:VEVENT
BEGIN:VEVENT
DTSTART;VALUE=DATE:20260719
DTEND;VALUE=DATE:20260720
DTSTAMP:20260420T150645
CREATED:20260210T172350Z
LAST-MODIFIED:20260210T172350Z
UID:10004767-1784448000-1784480400@visitlycomingcounty.com
SUMMARY:ANASTASIA
DESCRIPTION:Inspired by the beloved animated film and the Broadway musical\, ANASTASIA is a sweeping story of identity\, courage\, and discovery. Set against post-revolutionary Russia and the glamour of 1920s Paris\, the musical follows Anya\, a young woman with no memory of her past\, as she embarks on a daring journey to uncover who she truly is. With soaring music\, dynamic ensemble moments\, and richly layered characters\, ANASTASIA offers extraordinary opportunities for young performers to shine.  This is a Community Encore Production which is a partnership between the Community Theatre League (CTL)\, Journey Bank Community Arts Center\, and Lycoming College’s Music and Theatre Departments.  Times to be determined.
URL:https://visitlycomingcounty.com/event/anastasia/2026-07-19/
LOCATION:Journey Bank Community Arts Center\, 220 West Fourth St\, Williamsport\, PA\, 17701\, United States
CATEGORIES:Events,Theatre and the Arts
ATTACH;FMTTYPE=image/jpeg:https://visitlycomingcounty.com/wp-content/uploads/2026/02/Anastasia-SOCIAL-ENCORE.jpg
END:VEVENT
BEGIN:VEVENT
DTSTART;TZID=America/New_York:20260925T193000
DTEND;TZID=America/New_York:20260925T210000
DTSTAMP:20260420T150645
CREATED:20260414T140640Z
LAST-MODIFIED:20260414T140640Z
UID:10005277-1790364600-1790370000@visitlycomingcounty.com
SUMMARY:Outlander in Concert
DESCRIPTION:The officially licensed concert experience celebrating the global phenomenon. Outlander in Concert brings eight seasons of love\, legacy\, and destiny to life as a live orchestra performs.
URL:https://visitlycomingcounty.com/event/outlander-in-concert/
LOCATION:Journey Bank Community Arts Center\, 220 West Fourth St\, Williamsport\, PA\, 17701\, United States
CATEGORIES:Events,Theatre and the Arts
ATTACH;FMTTYPE=image/png:https://visitlycomingcounty.com/wp-content/uploads/2026/01/2400.127-Journey-Bank-CAC-Logo-4color-1.png
END:VEVENT
BEGIN:VEVENT
DTSTART;TZID=America/New_York:20261101T183000
DTEND;TZID=America/New_York:20261101T200000
DTSTAMP:20260420T150645
CREATED:20260414T141133Z
LAST-MODIFIED:20260414T141133Z
UID:10005278-1793557800-1793563200@visitlycomingcounty.com
SUMMARY:The Price is Right Live
DESCRIPTION:“Come on Down” to THE PRICE IS RIGHT LIVE™\, you could be next!  This family-friendly show is making its way to you\, get your tickets TODAY! This isn’t just any stage show- it’s an interactive\, non-televised\, live version of the iconic game show you know and love.
URL:https://visitlycomingcounty.com/event/the-price-is-right-live/
LOCATION:Journey Bank Community Arts Center\, 220 West Fourth St\, Williamsport\, PA\, 17701\, United States
CATEGORIES:Events,Theatre and the Arts
ATTACH;FMTTYPE=image/png:https://visitlycomingcounty.com/wp-content/uploads/2026/01/2400.127-Journey-Bank-CAC-Logo-4color-1.png
END:VEVENT
END:VCALENDAR