BEGIN:VCALENDAR
VERSION:2.0
PRODID:-//Lycoming County Visitor&#039;s Bureau - ECPv6.15.20//NONSGML v1.0//EN
CALSCALE:GREGORIAN
METHOD:PUBLISH
X-ORIGINAL-URL:https://visitlycomingcounty.com
X-WR-CALDESC:Events for Lycoming County Visitor&#039;s Bureau
REFRESH-INTERVAL;VALUE=DURATION:PT1H
X-Robots-Tag:noindex
X-PUBLISHED-TTL:PT1H
BEGIN:VTIMEZONE
TZID:America/New_York
BEGIN:DAYLIGHT
TZOFFSETFROM:-0500
TZOFFSETTO:-0400
TZNAME:EDT
DTSTART:20250309T070000
END:DAYLIGHT
BEGIN:STANDARD
TZOFFSETFROM:-0400
TZOFFSETTO:-0500
TZNAME:EST
DTSTART:20251102T060000
END:STANDARD
BEGIN:DAYLIGHT
TZOFFSETFROM:-0500
TZOFFSETTO:-0400
TZNAME:EDT
DTSTART:20260308T070000
END:DAYLIGHT
BEGIN:STANDARD
TZOFFSETFROM:-0400
TZOFFSETTO:-0500
TZNAME:EST
DTSTART:20261101T060000
END:STANDARD
BEGIN:DAYLIGHT
TZOFFSETFROM:-0500
TZOFFSETTO:-0400
TZNAME:EDT
DTSTART:20270314T070000
END:DAYLIGHT
BEGIN:STANDARD
TZOFFSETFROM:-0400
TZOFFSETTO:-0500
TZNAME:EST
DTSTART:20271107T060000
END:STANDARD
END:VTIMEZONE
BEGIN:VEVENT
DTSTART;TZID=America/New_York:20260329T120000
DTEND;TZID=America/New_York:20260329T130000
DTSTAMP:20260421T094240
CREATED:20260217T173621Z
LAST-MODIFIED:20260217T173621Z
UID:10004779-1774785600-1774789200@visitlycomingcounty.com
SUMMARY:Classic Fairytale Storytime
DESCRIPTION:Join us for a Classic Fairytale Storytime featuring Snow White and Cinderella at The Otto Bookstore! \nOur guests from Twinkling Tiara Parties will bring the magic to life with: \n• A read-aloud of The Humble Pie \n• A hands-on craft for kids \n• A cheerful sing-along \n• Opportunities for photos and interactive character moments \nRSVP at www.ottobookstore.com
URL:https://visitlycomingcounty.com/event/classic-fairytale-storytime-2/
LOCATION:Otto Bookstore\, 107 W. Fourth St.\, Williamsport\, 17701\, United States
CATEGORIES:Events,Theatre and the Arts
ATTACH;FMTTYPE=image/png:https://visitlycomingcounty.com/wp-content/uploads/2024/08/logo-listing-default.png
END:VEVENT
BEGIN:VEVENT
DTSTART;TZID=America/New_York:20260329T120000
DTEND;TZID=America/New_York:20260329T130000
DTSTAMP:20260421T094240
CREATED:20260217T175617Z
LAST-MODIFIED:20260217T180226Z
UID:10004780-1774785600-1774789200@visitlycomingcounty.com
SUMMARY:Classic Fairytale Storytime
DESCRIPTION:Join us on Sunday\, March 29th from 12–1 PM for a Classic Fairytale Storytime featuring Snow White and Cinderella at The Otto Bookstore! \nOur guests from Twinkling Tiara Parties will bring the magic to life with: \n• A read-aloud of The Humble Pie \n• A hands-on craft for kids \n• A cheerful sing-along \n• Opportunities for photos and interactive character moments\nOnly children need booked seats\, parents come along! \nRSVP at www.ottobookstore.com
URL:https://visitlycomingcounty.com/event/classic-fairytale-storytime-3/
LOCATION:Otto Bookstore\, 107 W. Fourth St.\, Williamsport\, 17701\, United States
CATEGORIES:Events,Theatre and the Arts
ATTACH;FMTTYPE=image/png:https://visitlycomingcounty.com/wp-content/uploads/2026/02/otto-logo.png
END:VEVENT
END:VCALENDAR