BEGIN:VCALENDAR
VERSION:2.0
PRODID:-//Lycoming County Visitor&#039;s Bureau - ECPv6.15.20//NONSGML v1.0//EN
CALSCALE:GREGORIAN
METHOD:PUBLISH
X-WR-CALNAME:Lycoming County Visitor&#039;s Bureau
X-ORIGINAL-URL:https://visitlycomingcounty.com
X-WR-CALDESC:Events for Lycoming County Visitor&#039;s Bureau
REFRESH-INTERVAL;VALUE=DURATION:PT1H
X-Robots-Tag:noindex
X-PUBLISHED-TTL:PT1H
BEGIN:VTIMEZONE
TZID:America/New_York
BEGIN:DAYLIGHT
TZOFFSETFROM:-0500
TZOFFSETTO:-0400
TZNAME:EDT
DTSTART:20240310T070000
END:DAYLIGHT
BEGIN:STANDARD
TZOFFSETFROM:-0400
TZOFFSETTO:-0500
TZNAME:EST
DTSTART:20241103T060000
END:STANDARD
BEGIN:DAYLIGHT
TZOFFSETFROM:-0500
TZOFFSETTO:-0400
TZNAME:EDT
DTSTART:20250309T070000
END:DAYLIGHT
BEGIN:STANDARD
TZOFFSETFROM:-0400
TZOFFSETTO:-0500
TZNAME:EST
DTSTART:20251102T060000
END:STANDARD
BEGIN:DAYLIGHT
TZOFFSETFROM:-0500
TZOFFSETTO:-0400
TZNAME:EDT
DTSTART:20260308T070000
END:DAYLIGHT
BEGIN:STANDARD
TZOFFSETFROM:-0400
TZOFFSETTO:-0500
TZNAME:EST
DTSTART:20261101T060000
END:STANDARD
END:VTIMEZONE
BEGIN:VEVENT
DTSTART;TZID=America/New_York:20251114T180000
DTEND;TZID=America/New_York:20251114T200000
DTSTAMP:20260420T185907
CREATED:20251021T182533Z
LAST-MODIFIED:20251021T182533Z
UID:10004655-1763143200-1763150400@visitlycomingcounty.com
SUMMARY:Blippi - Community Arts Center
DESCRIPTION:Blippi along with Meekah\, their singing and dancing buddies\, musicians and YOU will explore how sounds\, rhythms\, and instruments make music through all your favorite Blippi hits. Grab your drumsticks\, tune up your guitar\, and dance like Blippi! Get ready for a musical performance that’s fun for the whole family!
URL:https://visitlycomingcounty.com/event/blippi-community-arts-center/
LOCATION:Community Arts Center\, 220 West Fourth St\, Williamsport\, PA\, 17701\, United States
CATEGORIES:Events,Theatre and the Arts
ATTACH;FMTTYPE=image/png:https://visitlycomingcounty.com/wp-content/uploads/2025/03/17277013826762833063-H9y1gv.png
GEO:41.241027384769;-77.006073147474
X-APPLE-STRUCTURED-LOCATION;VALUE=URI;X-ADDRESS=Community Arts Center 220 West Fourth St Williamsport PA 17701 United States;X-APPLE-RADIUS=500;X-TITLE=220 West Fourth St:geo:-77.006073147474,41.241027384769
END:VEVENT
BEGIN:VEVENT
DTSTART;TZID=America/New_York:20251114T193000
DTEND;TZID=America/New_York:20251114T213000
DTSTAMP:20260420T185907
CREATED:20251028T155333Z
LAST-MODIFIED:20251028T161027Z
UID:10004684-1763148600-1763155800@visitlycomingcounty.com
SUMMARY:Legally Blonde\, The Musical
DESCRIPTION:The Lycoming College Theatre Department at will present “Legally Blonde The Musical” every evening at 7:30 p.m.\, from Nov. 12-15\, in the Mary L. Welch Theatre on the Lycoming College campus. The Broadway hit is the first production of the College’s 2025-26 theatre season.  “Legally Blonde The Musical” is written by Heather Hach with music and lyrics by Laurence O’Keefe and Nell Benjamin. It tells the story of Elle Woods\, who transforms from underestimated “sorority girl” to accomplished lawyer\, proving her worth lies beyond appearances. \n 
URL:https://visitlycomingcounty.com/event/legally-blonde-the-musical/2025-11-14/
LOCATION:Mary L Welch Theatre\, Lycoming College Campus\, Williamsport\, 17701\, United States
CATEGORIES:Events,Theatre and the Arts
ATTACH;FMTTYPE=image/png:https://visitlycomingcounty.com/wp-content/uploads/2025/10/Lycoming-College-Logo.png
END:VEVENT
END:VCALENDAR