BEGIN:VCALENDAR
VERSION:2.0
PRODID:-//Lycoming County Visitor&#039;s Bureau - ECPv6.15.20//NONSGML v1.0//EN
CALSCALE:GREGORIAN
METHOD:PUBLISH
X-WR-CALNAME:Lycoming County Visitor&#039;s Bureau
X-ORIGINAL-URL:https://visitlycomingcounty.com
X-WR-CALDESC:Events for Lycoming County Visitor&#039;s Bureau
REFRESH-INTERVAL;VALUE=DURATION:PT1H
X-Robots-Tag:noindex
X-PUBLISHED-TTL:PT1H
BEGIN:VTIMEZONE
TZID:America/New_York
BEGIN:DAYLIGHT
TZOFFSETFROM:-0500
TZOFFSETTO:-0400
TZNAME:EDT
DTSTART:20230312T070000
END:DAYLIGHT
BEGIN:STANDARD
TZOFFSETFROM:-0400
TZOFFSETTO:-0500
TZNAME:EST
DTSTART:20231105T060000
END:STANDARD
BEGIN:DAYLIGHT
TZOFFSETFROM:-0500
TZOFFSETTO:-0400
TZNAME:EDT
DTSTART:20240310T070000
END:DAYLIGHT
BEGIN:STANDARD
TZOFFSETFROM:-0400
TZOFFSETTO:-0500
TZNAME:EST
DTSTART:20241103T060000
END:STANDARD
BEGIN:DAYLIGHT
TZOFFSETFROM:-0500
TZOFFSETTO:-0400
TZNAME:EDT
DTSTART:20250309T070000
END:DAYLIGHT
BEGIN:STANDARD
TZOFFSETFROM:-0400
TZOFFSETTO:-0500
TZNAME:EST
DTSTART:20251102T060000
END:STANDARD
BEGIN:DAYLIGHT
TZOFFSETFROM:-0500
TZOFFSETTO:-0400
TZNAME:EDT
DTSTART:20260308T070000
END:DAYLIGHT
BEGIN:STANDARD
TZOFFSETFROM:-0400
TZOFFSETTO:-0500
TZNAME:EST
DTSTART:20261101T060000
END:STANDARD
END:VTIMEZONE
BEGIN:VEVENT
DTSTART;TZID=America/New_York:20250412T193000
DTEND;TZID=America/New_York:20250412T213000
DTSTAMP:20260423T064426
CREATED:20250326T144917Z
LAST-MODIFIED:20250411T152055Z
UID:10004364-1744486200-1744493400@visitlycomingcounty.com
SUMMARY:Full Moon Hike
DESCRIPTION:Join Lunar’s Outdoor Adventures on full moon hike at Rider Park. Meet at the new picnic pavilion and hike to one of the vistas. Bring a red headlamp to save your night vision.  To register go to http://www.lunarsoutdoradventures.com
URL:https://visitlycomingcounty.com/event/full-moon-hike/
LOCATION:Rider Park\, Caleb Creek Rd.\, Montoursville\, PA\, 17754\, United States
CATEGORIES:Events,Nature
ATTACH;FMTTYPE=image/png:https://visitlycomingcounty.com/wp-content/uploads/2025/03/FullMoon.png
END:VEVENT
BEGIN:VEVENT
DTSTART;TZID=America/New_York:20250406T130000
DTEND;TZID=America/New_York:20250406T150000
DTSTAMP:20260423T064426
CREATED:20250326T144417Z
LAST-MODIFIED:20250326T144524Z
UID:10004363-1743944400-1743951600@visitlycomingcounty.com
SUMMARY:Spring Wreath Making
DESCRIPTION:Join Sara Street\, Rider Park Manager\, and Pete Gstalder to make a spring wreath with willows and dogwoods. You will use the wreath making table with a build in clamp to assemble the wreaths. Cost is $15 for the materials. Please bring cash the day of the workshop. Park and meet at the maintenance shed (you are authorized to drive up).  Participants are asked to pre-register by calling the Foundation at 570-321-1500 or by emailing amyp@fcfpartnership.org.
URL:https://visitlycomingcounty.com/event/spring-wreath-making/
LOCATION:Rider Park\, Caleb Creek Rd.\, Montoursville\, PA\, 17754\, United States
CATEGORIES:Events,Nature
ATTACH;FMTTYPE=image/png:https://visitlycomingcounty.com/wp-content/uploads/2025/03/Spring-Wreath.png
END:VEVENT
BEGIN:VEVENT
DTSTART;VALUE=DATE:20250329
DTEND;VALUE=DATE:20250330
DTSTAMP:20260423T064426
CREATED:20250226T154628Z
LAST-MODIFIED:20250226T154933Z
UID:10004350-1743206400-1743292799@visitlycomingcounty.com
SUMMARY:Rider Rattler 4 & 8 Miler Race
DESCRIPTION:Get ready for the ultimate test of speed\, strategy\, and endurance! The Rider Ratter Race is back and registration is officially OPEN!  Whether you’re a seasoned pro or a first-time racer\, this event promises an exciting and challenging experience for all.  The race will be followed by a meal. 
URL:https://visitlycomingcounty.com/event/rider-rattler-4-8-miler/
LOCATION:Rider Park\, Caleb Creek Rd.\, Montoursville\, PA\, 17754\, United States
CATEGORIES:Events,Nature,Sporting
ATTACH;FMTTYPE=image/jpeg:https://visitlycomingcounty.com/wp-content/uploads/2025/02/Rider-Park-5.jpg
END:VEVENT
BEGIN:VEVENT
DTSTART;TZID=America/New_York:20241026T140000
DTEND;TZID=America/New_York:20241026T150000
DTSTAMP:20260423T064426
CREATED:20241005T151440Z
LAST-MODIFIED:20241005T151440Z
UID:10004291-1729951200-1729954800@visitlycomingcounty.com
SUMMARY:Spooky Spiders
DESCRIPTION:There are over 30\,000 different spiders in the world.  What do some of these spiders eat?  Where do some of these spiders live? Come and learn some of the more common spiders around PA.  Afterwards\, there will be a craft.  All children must be accompanied by an adult in order to participate.  Program may be modified or cancelled in the event of severe weather or new community guidelines.  Meet at the Environmental Learning Center (at park office).
URL:https://visitlycomingcounty.com/event/spooky-spiders/
LOCATION:Little Pine State Park\, 4205 Little Pine Creek Rd.\, Waterville\, PA\, 17776-9705\, United States
CATEGORIES:Events,Nature,Pine Creek Valley
ATTACH;FMTTYPE=image/jpeg:https://visitlycomingcounty.com/wp-content/uploads/2024/08/Little-Pine-Sign-22.jpg
GEO:41.360447236744;-77.353104816475
X-APPLE-STRUCTURED-LOCATION;VALUE=URI;X-ADDRESS=Little Pine State Park 4205 Little Pine Creek Rd. Waterville PA 17776-9705 United States;X-APPLE-RADIUS=500;X-TITLE=4205 Little Pine Creek Rd.:geo:-77.353104816475,41.360447236744
END:VEVENT
BEGIN:VEVENT
DTSTART;TZID=America/New_York:20241020T060000
DTEND;TZID=America/New_York:20241020T060000
DTSTAMP:20260423T064426
CREATED:20241005T152815Z
LAST-MODIFIED:20241005T153052Z
UID:10004293-1729404000-1729404000@visitlycomingcounty.com
SUMMARY:Call of the Wilds 25K and 50K
DESCRIPTION:This is not a park led event.  This event has been listed for your information and planning purposes.  For more information\, please visit https://www.patraildogs.com/wilds.
URL:https://visitlycomingcounty.com/event/call-of-the-wilds-25k-and-50k/
LOCATION:Little Pine State Park\, 4205 Little Pine Creek Rd.\, Waterville\, PA\, 17776-9705\, United States
CATEGORIES:Events,Nature,Pine Creek Valley
ATTACH;FMTTYPE=image/jpeg:https://visitlycomingcounty.com/wp-content/uploads/2024/08/Little-Pine-Sign-22.jpg
GEO:41.360447236744;-77.353104816475
X-APPLE-STRUCTURED-LOCATION;VALUE=URI;X-ADDRESS=Little Pine State Park 4205 Little Pine Creek Rd. Waterville PA 17776-9705 United States;X-APPLE-RADIUS=500;X-TITLE=4205 Little Pine Creek Rd.:geo:-77.353104816475,41.360447236744
END:VEVENT
BEGIN:VEVENT
DTSTART;TZID=America/New_York:20241019T100000
DTEND;TZID=America/New_York:20241019T100000
DTSTAMP:20260423T064426
CREATED:20241005T152033Z
LAST-MODIFIED:20241005T152406Z
UID:10004292-1729332000-1729332000@visitlycomingcounty.com
SUMMARY:Little Pine 5 Miler
DESCRIPTION:This is not a park led event.  This event has been listed for your information and planning purposes.  For more information\, please visit https://www.patraildogs.com/little-pine-5.
URL:https://visitlycomingcounty.com/event/little-pine-5-miler/
LOCATION:Little Pine State Park\, 4205 Little Pine Creek Rd.\, Waterville\, PA\, 17776-9705\, United States
CATEGORIES:Events,Nature,Pine Creek Valley
ATTACH;FMTTYPE=image/jpeg:https://visitlycomingcounty.com/wp-content/uploads/2024/08/Little-Pine-Sign-22.jpg
GEO:41.360447236744;-77.353104816475
X-APPLE-STRUCTURED-LOCATION;VALUE=URI;X-ADDRESS=Little Pine State Park 4205 Little Pine Creek Rd. Waterville PA 17776-9705 United States;X-APPLE-RADIUS=500;X-TITLE=4205 Little Pine Creek Rd.:geo:-77.353104816475,41.360447236744
END:VEVENT
BEGIN:VEVENT
DTSTART;TZID=America/New_York:20241005T180000
DTEND;TZID=America/New_York:20241005T190000
DTSTAMP:20260423T064426
CREATED:20241005T143344Z
LAST-MODIFIED:20241005T153721Z
UID:10004289-1728151200-1728154800@visitlycomingcounty.com
SUMMARY:PA Snakes
DESCRIPTION:Join the park naturalist to learn about the different “PA Snakes”.  Topics will include the myths that have come up\, diets\, habitat\, and more.  All children must be accompanied by an adult in order to participate.  Program may be modified or cancelled in the event of severe weather or new state or community guidelines.  Meet at the amphitheater.
URL:https://visitlycomingcounty.com/event/pa-snakes/
LOCATION:Little Pine State Park\, 4205 Little Pine Creek Rd.\, Waterville\, PA\, 17776-9705\, United States
CATEGORIES:Events,Nature,Pine Creek Valley
ATTACH;FMTTYPE=image/jpeg:https://visitlycomingcounty.com/wp-content/uploads/2024/08/Little-Pine-Sign-22.jpg
GEO:41.360447236744;-77.353104816475
X-APPLE-STRUCTURED-LOCATION;VALUE=URI;X-ADDRESS=Little Pine State Park 4205 Little Pine Creek Rd. Waterville PA 17776-9705 United States;X-APPLE-RADIUS=500;X-TITLE=4205 Little Pine Creek Rd.:geo:-77.353104816475,41.360447236744
END:VEVENT
BEGIN:VEVENT
DTSTART;TZID=America/New_York:20240920T140000
DTEND;TZID=America/New_York:20240920T160000
DTSTAMP:20260423T064426
CREATED:20240911T171224Z
LAST-MODIFIED:20240913T141742Z
UID:10003848-1726840800-1726848000@visitlycomingcounty.com
SUMMARY:Fall Birding at Little Pine State Park
DESCRIPTION:Join the naturalist for some fall birding on the Lake Shore Trail.  Topics will include the different birds that live at Little Pine and also how to identify them.  Please bring your own binoculars and other birding gear.    All children must be accompanied by an adult in order to participate.  Program may be modified or cancelled in the event of severe weather or new community guidelines.  Meet at the beginning of the Lake Shore Trail (kiosk at dam) at 2 pm.
URL:https://visitlycomingcounty.com/event/fall-birding-at-little-pine-state-park/
LOCATION:Little Pine State Park\, 4205 Little Pine Creek Rd.\, Waterville\, PA\, 17776-9705\, United States
CATEGORIES:Nature,Pine Creek Valley
ATTACH;FMTTYPE=image/jpeg:https://visitlycomingcounty.com/wp-content/uploads/2024/09/c1737916698f94e7de632fe559066e1f6fbf612b.jpg
GEO:41.360447236744;-77.353104816475
X-APPLE-STRUCTURED-LOCATION;VALUE=URI;X-ADDRESS=Little Pine State Park 4205 Little Pine Creek Rd. Waterville PA 17776-9705 United States;X-APPLE-RADIUS=500;X-TITLE=4205 Little Pine Creek Rd.:geo:-77.353104816475,41.360447236744
END:VEVENT
BEGIN:VEVENT
DTSTART;TZID=America/New_York:20240913T193000
DTEND;TZID=America/New_York:20240913T203000
DTSTAMP:20260423T064426
CREATED:20240911T160318Z
LAST-MODIFIED:20240911T161925Z
UID:10003846-1726255800-1726259400@visitlycomingcounty.com
SUMMARY:Katydid Cadence at Little Pine State Park
DESCRIPTION:Ever hear a katydid sing? Or maybe a katydidn’t? Join the naturalist to learn about these facinating insects and also why they are singing at night. All children must be accompanied by an adult in order to participate. Program may be modified or cancelled in the event of severe weather or new community guidelines. Meet at the amphitheater at 7:45 pm.
URL:https://visitlycomingcounty.com/event/katydid-cadence-at-little-pine-state-park/
LOCATION:Little Pine State Park\, 4205 Little Pine Creek Rd.\, Waterville\, PA\, 17776-9705\, United States
CATEGORIES:Events,Nature,Pine Creek Valley
ATTACH;FMTTYPE=image/jpeg:https://visitlycomingcounty.com/wp-content/uploads/2024/08/Little-Pine-Sign-22.jpg
GEO:41.360447236744;-77.353104816475
X-APPLE-STRUCTURED-LOCATION;VALUE=URI;X-ADDRESS=Little Pine State Park 4205 Little Pine Creek Rd. Waterville PA 17776-9705 United States;X-APPLE-RADIUS=500;X-TITLE=4205 Little Pine Creek Rd.:geo:-77.353104816475,41.360447236744
END:VEVENT
BEGIN:VEVENT
DTSTART;TZID=America/New_York:20240913T030000
DTEND;TZID=America/New_York:20240913T170000
DTSTAMP:20260423T064426
CREATED:20240911T155247Z
LAST-MODIFIED:20240911T155247Z
UID:10003845-1726196400-1726246800@visitlycomingcounty.com
SUMMARY:Solar Viewing at Little Pine State Park
DESCRIPTION:Join the naturalist to take a look through the solar viewer and learn things about the most well know star in our solar system\, the sun.  All children must be accompanied by an adult in order to participate.  Program may be modified or cancelled in the event of severe weather or new community guidelines.  Meet at the Main Day Use Parking Area at 3 pm.
URL:https://visitlycomingcounty.com/event/solar-viewing-at-little-pine-state-park/
LOCATION:Little Pine State Park\, 4205 Little Pine Creek Rd.\, Waterville\, PA\, 17776-9705\, United States
CATEGORIES:Nature,Pine Creek Valley
ATTACH;FMTTYPE=image/png:https://visitlycomingcounty.com/wp-content/uploads/2024/08/logo-listing-default.png
GEO:41.360447236744;-77.353104816475
X-APPLE-STRUCTURED-LOCATION;VALUE=URI;X-ADDRESS=Little Pine State Park 4205 Little Pine Creek Rd. Waterville PA 17776-9705 United States;X-APPLE-RADIUS=500;X-TITLE=4205 Little Pine Creek Rd.:geo:-77.353104816475,41.360447236744
END:VEVENT
END:VCALENDAR