BEGIN:VCALENDAR
VERSION:2.0
PRODID:-//Lycoming County Visitor&#039;s Bureau - ECPv6.15.20//NONSGML v1.0//EN
CALSCALE:GREGORIAN
METHOD:PUBLISH
X-WR-CALNAME:Lycoming County Visitor&#039;s Bureau
X-ORIGINAL-URL:https://visitlycomingcounty.com
X-WR-CALDESC:Events for Lycoming County Visitor&#039;s Bureau
REFRESH-INTERVAL;VALUE=DURATION:PT1H
X-Robots-Tag:noindex
X-PUBLISHED-TTL:PT1H
BEGIN:VTIMEZONE
TZID:America/New_York
BEGIN:DAYLIGHT
TZOFFSETFROM:-0500
TZOFFSETTO:-0400
TZNAME:EDT
DTSTART:20240310T070000
END:DAYLIGHT
BEGIN:STANDARD
TZOFFSETFROM:-0400
TZOFFSETTO:-0500
TZNAME:EST
DTSTART:20241103T060000
END:STANDARD
BEGIN:DAYLIGHT
TZOFFSETFROM:-0500
TZOFFSETTO:-0400
TZNAME:EDT
DTSTART:20250309T070000
END:DAYLIGHT
BEGIN:STANDARD
TZOFFSETFROM:-0400
TZOFFSETTO:-0500
TZNAME:EST
DTSTART:20251102T060000
END:STANDARD
BEGIN:DAYLIGHT
TZOFFSETFROM:-0500
TZOFFSETTO:-0400
TZNAME:EDT
DTSTART:20260308T070000
END:DAYLIGHT
BEGIN:STANDARD
TZOFFSETFROM:-0400
TZOFFSETTO:-0500
TZNAME:EST
DTSTART:20261101T060000
END:STANDARD
END:VTIMEZONE
BEGIN:VEVENT
DTSTART;TZID=America/New_York:20250819T080000
DTEND;TZID=America/New_York:20250930T170000
DTSTAMP:20260424T044553
CREATED:20250827T161320Z
LAST-MODIFIED:20250827T162523Z
UID:10004553-1755590400-1759251600@visitlycomingcounty.com
SUMMARY:"Drawn into two\, which way home?"
DESCRIPTION:The Gallery at Penn College is pleased to feature internationally acclaimed artist Taha Ahmad in its 2025-2026 season opening.  The exhibit implores visitors to consider the ways in which the trauma and displacement of the 1947 partition of India and Pakistan can be used to foster a deeper understanding of the human race.
URL:https://visitlycomingcounty.com/event/drawn-into-two-which-way-home/
LOCATION:The Gallery at Penn College\, 1 College Ave.\, Williamsport\, PA\, 17701\, United States
CATEGORIES:Events
ATTACH;FMTTYPE=image/jpeg:https://visitlycomingcounty.com/wp-content/uploads/2025/08/02_drawn-into-two-which-way-home_0-scaled.jpg
END:VEVENT
BEGIN:VEVENT
DTSTART;TZID=America/New_York:20250920T110000
DTEND;TZID=America/New_York:20250920T220000
DTSTAMP:20260424T044553
CREATED:20250815T202000Z
LAST-MODIFIED:20250820T185503Z
UID:10004550-1758366000-1758405600@visitlycomingcounty.com
SUMMARY:Susquehanna Film Festival
DESCRIPTION:Susquehanna Film Festival (SFF) will screen 33 local\, national and international films over three days. The festival will showcase a multi-genre selection of feature\, short\, documentary and animated films\, with a special emphasis on works produced in Pennsylvania. As an added bonus that’s sure to please film fans\, many of the SFF’s screening selections are yet-to-be released films\, making their exclusive North American premiere\, which means they have never been seen in movie theaters or streamed on U.S. platforms. The full list of festival selections can now be viewed at facebook.com/susquehannafilmfestival. The public is invited to attend screenings and the awards ceremony. Advance tickets may be purchased at  thedistrict.dipsontheatres.com. \n 
URL:https://visitlycomingcounty.com/event/susquehanna-film-festival/2025-09-20/
LOCATION:District Cinema at Lycoming Valley\, 965 Lycoming Mall Circle\, Muncy\, PA\, 17756\, United States
CATEGORIES:Events,Theatre and the Arts
ATTACH;FMTTYPE=image/jpeg:https://visitlycomingcounty.com/wp-content/uploads/2025/08/Film-festival.jpg
END:VEVENT
END:VCALENDAR