BEGIN:VCALENDAR
VERSION:2.0
PRODID:-//Lycoming County Visitor&#039;s Bureau - ECPv6.15.20//NONSGML v1.0//EN
CALSCALE:GREGORIAN
METHOD:PUBLISH
X-WR-CALNAME:Lycoming County Visitor&#039;s Bureau
X-ORIGINAL-URL:https://visitlycomingcounty.com
X-WR-CALDESC:Events for Lycoming County Visitor&#039;s Bureau
REFRESH-INTERVAL;VALUE=DURATION:PT1H
X-Robots-Tag:noindex
X-PUBLISHED-TTL:PT1H
BEGIN:VTIMEZONE
TZID:America/New_York
BEGIN:DAYLIGHT
TZOFFSETFROM:-0500
TZOFFSETTO:-0400
TZNAME:EDT
DTSTART:20240310T070000
END:DAYLIGHT
BEGIN:STANDARD
TZOFFSETFROM:-0400
TZOFFSETTO:-0500
TZNAME:EST
DTSTART:20241103T060000
END:STANDARD
BEGIN:DAYLIGHT
TZOFFSETFROM:-0500
TZOFFSETTO:-0400
TZNAME:EDT
DTSTART:20250309T070000
END:DAYLIGHT
BEGIN:STANDARD
TZOFFSETFROM:-0400
TZOFFSETTO:-0500
TZNAME:EST
DTSTART:20251102T060000
END:STANDARD
BEGIN:DAYLIGHT
TZOFFSETFROM:-0500
TZOFFSETTO:-0400
TZNAME:EDT
DTSTART:20260308T070000
END:DAYLIGHT
BEGIN:STANDARD
TZOFFSETFROM:-0400
TZOFFSETTO:-0500
TZNAME:EST
DTSTART:20261101T060000
END:STANDARD
END:VTIMEZONE
BEGIN:VEVENT
DTSTART;TZID=America/New_York:20250819T080000
DTEND;TZID=America/New_York:20250930T170000
DTSTAMP:20260422T095849
CREATED:20250827T161320Z
LAST-MODIFIED:20250827T162523Z
UID:10004553-1755590400-1759251600@visitlycomingcounty.com
SUMMARY:"Drawn into two\, which way home?"
DESCRIPTION:The Gallery at Penn College is pleased to feature internationally acclaimed artist Taha Ahmad in its 2025-2026 season opening.  The exhibit implores visitors to consider the ways in which the trauma and displacement of the 1947 partition of India and Pakistan can be used to foster a deeper understanding of the human race.
URL:https://visitlycomingcounty.com/event/drawn-into-two-which-way-home/
LOCATION:The Gallery at Penn College\, 1 College Ave.\, Williamsport\, PA\, 17701\, United States
CATEGORIES:Events
ATTACH;FMTTYPE=image/jpeg:https://visitlycomingcounty.com/wp-content/uploads/2025/08/02_drawn-into-two-which-way-home_0-scaled.jpg
END:VEVENT
BEGIN:VEVENT
DTSTART;VALUE=DATE:20250911
DTEND;VALUE=DATE:20250914
DTSTAMP:20260422T095849
CREATED:20240625T204015Z
LAST-MODIFIED:20250909T145900Z
UID:10004552-1757548800-1757807999@visitlycomingcounty.com
SUMMARY:Antes Fort Historical Days
DESCRIPTION:The Antes Fort Historical Days promise to provide entertainment and fun for the whole family. There will also be plenty of food and craft vendors. This event is always held on the third weekend of September.
URL:https://visitlycomingcounty.com/event/antes-fort-historical-days-2/
LOCATION:Village Park\, Second St.\, Antes Fort\, PA\, 17720
CATEGORIES:Events
ATTACH;FMTTYPE=image/jpeg:https://visitlycomingcounty.com/wp-content/uploads/2024/06/Antes-Fort-Historical-Days6.jpg
END:VEVENT
BEGIN:VEVENT
DTSTART;TZID=America/New_York:20250911T100000
DTEND;TZID=America/New_York:20250911T110000
DTSTAMP:20260422T095849
CREATED:20250902T154817Z
LAST-MODIFIED:20250902T154817Z
UID:10004554-1757584800-1757588400@visitlycomingcounty.com
SUMMARY:Cultural History of the Hankerchief
DESCRIPTION:The Thomas T. Taber Museum of the Lycoming County Historical Society will host its Coffee Hour on Thursday\, September 11 at 10am\, with a talk by Carol Sones Shetler on the cultural history of handkerchiefs.  Carol Sones Shetler is a retired writer\, having written for the Muncy Luminary and West Branch Life for twenty-three years. Handkerchieves are sometimes employed in the creation of quilts. Often embellished with embroidery or edged with lace\, crocheting or tatting\, they are not only a necessity\, but also provided a fashion statement for the person who carried it. \nThe lecture will be held in the Community Room of the Taber Museum and is free and open to the public. Light refreshments are served.   The museum is located at 858 West Fourth Street\, Williamsport. There is ample parking behind the museum as well as on the street. For further information about the museum\, please visit our website at www.tabermuseum.org or call 570.326.3326. \n  \n 
URL:https://visitlycomingcounty.com/event/cultural-history-of-the-hankerchief/
LOCATION:Thomas T. Taber Museum\, 858 W Fourth Street Williamsport\, Williamsport\, PA\, United States
CATEGORIES:Museum Exhibits
ATTACH;FMTTYPE=image/jpeg:https://visitlycomingcounty.com/wp-content/uploads/2025/06/Taber-Museum.jpg
END:VEVENT
END:VCALENDAR