BEGIN:VCALENDAR
VERSION:2.0
PRODID:-//Lycoming County Visitor&#039;s Bureau - ECPv6.15.20//NONSGML v1.0//EN
CALSCALE:GREGORIAN
METHOD:PUBLISH
X-WR-CALNAME:Lycoming County Visitor&#039;s Bureau
X-ORIGINAL-URL:https://visitlycomingcounty.com
X-WR-CALDESC:Events for Lycoming County Visitor&#039;s Bureau
REFRESH-INTERVAL;VALUE=DURATION:PT1H
X-Robots-Tag:noindex
X-PUBLISHED-TTL:PT1H
BEGIN:VTIMEZONE
TZID:America/New_York
BEGIN:DAYLIGHT
TZOFFSETFROM:-0500
TZOFFSETTO:-0400
TZNAME:EDT
DTSTART:20240310T070000
END:DAYLIGHT
BEGIN:STANDARD
TZOFFSETFROM:-0400
TZOFFSETTO:-0500
TZNAME:EST
DTSTART:20241103T060000
END:STANDARD
BEGIN:DAYLIGHT
TZOFFSETFROM:-0500
TZOFFSETTO:-0400
TZNAME:EDT
DTSTART:20250309T070000
END:DAYLIGHT
BEGIN:STANDARD
TZOFFSETFROM:-0400
TZOFFSETTO:-0500
TZNAME:EST
DTSTART:20251102T060000
END:STANDARD
BEGIN:DAYLIGHT
TZOFFSETFROM:-0500
TZOFFSETTO:-0400
TZNAME:EDT
DTSTART:20260308T070000
END:DAYLIGHT
BEGIN:STANDARD
TZOFFSETFROM:-0400
TZOFFSETTO:-0500
TZNAME:EST
DTSTART:20261101T060000
END:STANDARD
END:VTIMEZONE
BEGIN:VEVENT
DTSTART;TZID=America/New_York:20250819T080000
DTEND;TZID=America/New_York:20250930T170000
DTSTAMP:20260420T164420
CREATED:20250827T161320Z
LAST-MODIFIED:20250827T162523Z
UID:10004553-1755590400-1759251600@visitlycomingcounty.com
SUMMARY:"Drawn into two\, which way home?"
DESCRIPTION:The Gallery at Penn College is pleased to feature internationally acclaimed artist Taha Ahmad in its 2025-2026 season opening.  The exhibit implores visitors to consider the ways in which the trauma and displacement of the 1947 partition of India and Pakistan can be used to foster a deeper understanding of the human race.
URL:https://visitlycomingcounty.com/event/drawn-into-two-which-way-home/
LOCATION:The Gallery at Penn College\, 1 College Ave.\, Williamsport\, PA\, 17701\, United States
CATEGORIES:Events
ATTACH;FMTTYPE=image/jpeg:https://visitlycomingcounty.com/wp-content/uploads/2025/08/02_drawn-into-two-which-way-home_0-scaled.jpg
END:VEVENT
BEGIN:VEVENT
DTSTART;TZID=America/New_York:20250830T153000
DTEND;TZID=America/New_York:20250830T163000
DTSTAMP:20260420T164420
CREATED:20250815T181029Z
LAST-MODIFIED:20250815T181029Z
UID:10004547-1756567800-1756571400@visitlycomingcounty.com
SUMMARY:Critters of the Creek
DESCRIPTION:Join the park naturalist for the program “Critters of the Creek\,” and explore an underwater community to find some different aquatic insects that call this creek home.  All children must be accompanied by an adult in order to participate.  Please wear shoes to get wet.  Program may be modified or cancelled in the event of severe weather\, high water\, or new community guidelines.  Meet at the footbridge at the Lower Picnic Area. \n  \n  \n  \n 
URL:https://visitlycomingcounty.com/event/critters-of-the-creek/
LOCATION:Little Pine State Park\, 4205 Little Pine Creek Rd.\, Waterville\, PA\, 17776-9705\, United States
CATEGORIES:Events,Nature,Pine Creek Valley
ATTACH;FMTTYPE=image/jpeg:https://visitlycomingcounty.com/wp-content/uploads/2025/08/Little-Pine-Sign.jpg
GEO:41.360447236744;-77.353104816475
X-APPLE-STRUCTURED-LOCATION;VALUE=URI;X-ADDRESS=Little Pine State Park 4205 Little Pine Creek Rd. Waterville PA 17776-9705 United States;X-APPLE-RADIUS=500;X-TITLE=4205 Little Pine Creek Rd.:geo:-77.353104816475,41.360447236744
END:VEVENT
BEGIN:VEVENT
DTSTART;TZID=America/New_York:20250830T200000
DTEND;TZID=America/New_York:20250830T210000
DTSTAMP:20260420T164420
CREATED:20250815T181234Z
LAST-MODIFIED:20250815T181234Z
UID:10004548-1756584000-1756587600@visitlycomingcounty.com
SUMMARY:Night Sky Tour with Binoculars
DESCRIPTION:Join the park naturalist and go on a “Night Sky Tour with Binoculars.” Participants will be learning how to use a star map\, finding visible constellations and sharing some folklore and mythology about them. Please bring binoculars to enhance the view of some of the different constellations and stars.  All children must be accompanied by an adult in order to participate.  Program may be modified or cancelled in the event of severe weather or new community guidelines.  Should the weather be cloudy\, an alternative program will be offered at the Nature Center at the Park Office.  Meet at the Main Day Use Parking Area.
URL:https://visitlycomingcounty.com/event/night-sky-tour-with-binoculars/
LOCATION:Little Pine State Park\, 4205 Little Pine Creek Rd.\, Waterville\, PA\, 17776-9705\, United States
CATEGORIES:Events,Pine Creek Valley
ATTACH;FMTTYPE=image/jpeg:https://visitlycomingcounty.com/wp-content/uploads/2025/08/Little-Pine-Sign.jpg
GEO:41.360447236744;-77.353104816475
X-APPLE-STRUCTURED-LOCATION;VALUE=URI;X-ADDRESS=Little Pine State Park 4205 Little Pine Creek Rd. Waterville PA 17776-9705 United States;X-APPLE-RADIUS=500;X-TITLE=4205 Little Pine Creek Rd.:geo:-77.353104816475,41.360447236744
END:VEVENT
END:VCALENDAR