BEGIN:VCALENDAR
VERSION:2.0
PRODID:-//Lycoming County Visitor&#039;s Bureau - ECPv6.15.20//NONSGML v1.0//EN
CALSCALE:GREGORIAN
METHOD:PUBLISH
X-ORIGINAL-URL:https://visitlycomingcounty.com
X-WR-CALDESC:Events for Lycoming County Visitor&#039;s Bureau
REFRESH-INTERVAL;VALUE=DURATION:PT1H
X-Robots-Tag:noindex
X-PUBLISHED-TTL:PT1H
BEGIN:VTIMEZONE
TZID:America/New_York
BEGIN:DAYLIGHT
TZOFFSETFROM:-0500
TZOFFSETTO:-0400
TZNAME:EDT
DTSTART:20240310T070000
END:DAYLIGHT
BEGIN:STANDARD
TZOFFSETFROM:-0400
TZOFFSETTO:-0500
TZNAME:EST
DTSTART:20241103T060000
END:STANDARD
BEGIN:DAYLIGHT
TZOFFSETFROM:-0500
TZOFFSETTO:-0400
TZNAME:EDT
DTSTART:20250309T070000
END:DAYLIGHT
BEGIN:STANDARD
TZOFFSETFROM:-0400
TZOFFSETTO:-0500
TZNAME:EST
DTSTART:20251102T060000
END:STANDARD
BEGIN:DAYLIGHT
TZOFFSETFROM:-0500
TZOFFSETTO:-0400
TZNAME:EDT
DTSTART:20260308T070000
END:DAYLIGHT
BEGIN:STANDARD
TZOFFSETFROM:-0400
TZOFFSETTO:-0500
TZNAME:EST
DTSTART:20261101T060000
END:STANDARD
END:VTIMEZONE
BEGIN:VEVENT
DTSTART;TZID=America/New_York:20250815T180000
DTEND;TZID=America/New_York:20250815T210000
DTSTAMP:20260422T101122
CREATED:20250401T170830Z
LAST-MODIFIED:20250401T170830Z
UID:10004376-1755280800-1755291600@visitlycomingcounty.com
SUMMARY:Murder Mystery Dinner Cruise
DESCRIPTION:Amore Mortem Murder Mysteries LLC will be performing “Sherlock Holmes\, CSI” (Detective Attire) aboard the Hiawatha. Audience participation is involved and costumes are encouraged! Prizes will be given for the best guest costume and for whomever solves the mystery.
URL:https://visitlycomingcounty.com/event/murder-mystery-dinner-cruise-3/
LOCATION:Susquehanna State Park\, 2205 Hiawatha Blvd\, Williamsport\, 17701\, United States
CATEGORIES:Events
ATTACH;FMTTYPE=image/png:https://visitlycomingcounty.com/wp-content/uploads/2025/04/Hiawatha-logo.png
END:VEVENT
BEGIN:VEVENT
DTSTART;TZID=America/New_York:20250815T193000
DTEND;TZID=America/New_York:20250815T203000
DTSTAMP:20260422T101122
CREATED:20250510T170549Z
LAST-MODIFIED:20250805T165943Z
UID:10004470-1755286200-1755289800@visitlycomingcounty.com
SUMMARY:Evening Birding at Little Pine State Park
DESCRIPTION:Join the naturalist for some “Evening Birding” on the Lake Shore Trail.  Topics will include the different birds that live at Little Pine and also how to identify them.  A limited number of binoculars will be on hand. Please bring any other birding gear if desired.  All children must be accompanied by an adult in order to participate.  \nProgram may be modified or cancelled in the event of severe weather or new community guidelines.  Meet at the beginning of the Lake Shore Trail (kiosk at dam). \nWHERE: Little Pine State Park (Beginning of Lake Shore Trail) – (Kiosk at Top of Dam).  Little Pine State Park\, 4205 Little Pine Creek Road\, Waterville\, PA 17776-9705 \nRSVP: N/A \n  \n 
URL:https://visitlycomingcounty.com/event/evening-birding-at-little-pine-state-park/
LOCATION:Little Pine State Park\, 4205 Little Pine Creek Rd.\, Waterville\, PA\, 17776-9705\, United States
CATEGORIES:Events
ATTACH;FMTTYPE=image/jpeg:https://visitlycomingcounty.com/wp-content/uploads/2025/04/Little-Pine-Sign.jpg
GEO:41.360447236744;-77.353104816475
X-APPLE-STRUCTURED-LOCATION;VALUE=URI;X-ADDRESS=Little Pine State Park 4205 Little Pine Creek Rd. Waterville PA 17776-9705 United States;X-APPLE-RADIUS=500;X-TITLE=4205 Little Pine Creek Rd.:geo:-77.353104816475,41.360447236744
END:VEVENT
END:VCALENDAR