BEGIN:VCALENDAR
VERSION:2.0
PRODID:-//Lycoming County Visitor&#039;s Bureau - ECPv6.15.20//NONSGML v1.0//EN
CALSCALE:GREGORIAN
METHOD:PUBLISH
X-WR-CALNAME:Lycoming County Visitor&#039;s Bureau
X-ORIGINAL-URL:https://visitlycomingcounty.com
X-WR-CALDESC:Events for Lycoming County Visitor&#039;s Bureau
REFRESH-INTERVAL;VALUE=DURATION:PT1H
X-Robots-Tag:noindex
X-PUBLISHED-TTL:PT1H
BEGIN:VTIMEZONE
TZID:America/New_York
BEGIN:DAYLIGHT
TZOFFSETFROM:-0500
TZOFFSETTO:-0400
TZNAME:EDT
DTSTART:20240310T070000
END:DAYLIGHT
BEGIN:STANDARD
TZOFFSETFROM:-0400
TZOFFSETTO:-0500
TZNAME:EST
DTSTART:20241103T060000
END:STANDARD
BEGIN:DAYLIGHT
TZOFFSETFROM:-0500
TZOFFSETTO:-0400
TZNAME:EDT
DTSTART:20250309T070000
END:DAYLIGHT
BEGIN:STANDARD
TZOFFSETFROM:-0400
TZOFFSETTO:-0500
TZNAME:EST
DTSTART:20251102T060000
END:STANDARD
BEGIN:DAYLIGHT
TZOFFSETFROM:-0500
TZOFFSETTO:-0400
TZNAME:EDT
DTSTART:20260308T070000
END:DAYLIGHT
BEGIN:STANDARD
TZOFFSETFROM:-0400
TZOFFSETTO:-0500
TZNAME:EST
DTSTART:20261101T060000
END:STANDARD
END:VTIMEZONE
BEGIN:VEVENT
DTSTART;VALUE=DATE:20250731
DTEND;VALUE=DATE:20250804
DTSTAMP:20260424T050501
CREATED:20241113T165041Z
LAST-MODIFIED:20241113T171730Z
UID:10004313-1753920000-1754265599@visitlycomingcounty.com
SUMMARY:Loyalsock Valley Antique Machinery Show
DESCRIPTION:The show features antique farm machinery\, a flea market\, food\, music and more.  Go to https://www.facebook.com/LVAMAINC for more details.
URL:https://visitlycomingcounty.com/event/loyalsock-valley-antique-machinery-show/
LOCATION:Loyalsock Valley Antique Machinery Show\, Show Grounds\, Ralston\, PA\, 17763
CATEGORIES:Events,Museum Exhibits,Nature
ATTACH;FMTTYPE=image/png:https://visitlycomingcounty.com/wp-content/uploads/2024/08/lvama_logo_blk_header.png
END:VEVENT
BEGIN:VEVENT
DTSTART;TZID=America/New_York:20250801T060000
DTEND;TZID=America/New_York:20250801T080000
DTSTAMP:20260424T050501
CREATED:20250528T171420Z
LAST-MODIFIED:20250528T172313Z
UID:10004495-1754028000-1754035200@visitlycomingcounty.com
SUMMARY:Drum Corps International Summer Tour
DESCRIPTION:As part of an exciting weekend of marching music\, the SoundSport Festival – Williamsport — a free event — will feature an array of exciting indoor performances for a public audience. The show will take place Friday\, August 1 at the Community Arts Center on 4th Street as a part of the Williamsport First Friday event at 6:00 PM ET.
URL:https://visitlycomingcounty.com/event/drum-corps-international-summer-tour/
LOCATION:Community Arts Center\, 220 West Fourth St\, Williamsport\, PA\, 17701\, United States
CATEGORIES:Events,Theatre and the Arts
ATTACH;FMTTYPE=image/jpeg:https://visitlycomingcounty.com/wp-content/uploads/2025/05/dci-1-scaled.jpg
GEO:41.241027384769;-77.006073147474
X-APPLE-STRUCTURED-LOCATION;VALUE=URI;X-ADDRESS=Community Arts Center 220 West Fourth St Williamsport PA 17701 United States;X-APPLE-RADIUS=500;X-TITLE=220 West Fourth St:geo:-77.006073147474,41.241027384769
END:VEVENT
BEGIN:VEVENT
DTSTART;TZID=America/New_York:20250801T153000
DTEND;TZID=America/New_York:20250801T163000
DTSTAMP:20260424T050501
CREATED:20250724T152007Z
LAST-MODIFIED:20250724T152342Z
UID:10004539-1754062200-1754065800@visitlycomingcounty.com
SUMMARY:Bobcats at Little Pine State Park
DESCRIPTION:Join the Environmental Education Specialist to learn about Pennsylvania’s only wildcats\, “Bobcats.”  This is designed to be an informal program.  All children must be accompanied by an adult in order to participate.  Program may be modified or cancelled in the event of severe weather or new state or community guidelines.  Meet at the contact station near the campground.
URL:https://visitlycomingcounty.com/event/bobcats-at-little-pine-state-park/
LOCATION:Little Pine State Park\, 4205 Little Pine Creek Rd.\, Waterville\, PA\, 17776-9705\, United States
CATEGORIES:Events,Nature,Pine Creek Valley
ATTACH;FMTTYPE=image/jpeg:https://visitlycomingcounty.com/wp-content/uploads/2024/08/Little-Pine-Sign-22.jpg
GEO:41.360447236744;-77.353104816475
X-APPLE-STRUCTURED-LOCATION;VALUE=URI;X-ADDRESS=Little Pine State Park 4205 Little Pine Creek Rd. Waterville PA 17776-9705 United States;X-APPLE-RADIUS=500;X-TITLE=4205 Little Pine Creek Rd.:geo:-77.353104816475,41.360447236744
END:VEVENT
BEGIN:VEVENT
DTSTART;TZID=America/New_York:20250801T200000
DTEND;TZID=America/New_York:20250801T220000
DTSTAMP:20260424T050501
CREATED:20250401T172952Z
LAST-MODIFIED:20250401T181937Z
UID:10004383-1754078400-1754085600@visitlycomingcounty.com
SUMMARY:80's Dance Party Cruise
DESCRIPTION:80’s Dance Party!  Enjoy a 2 hour cruise on the Hiawatha with DJ Mendez and Drink Specials.  Dress for a rockin’ 80’s Dance Party!!  This cruise is for Adults 21+ Only.
URL:https://visitlycomingcounty.com/event/80s-dance-party-cruise/
LOCATION:Susquehanna State Park\, 2205 Hiawatha Blvd\, Williamsport\, 17701\, United States
CATEGORIES:Events
ATTACH;FMTTYPE=image/png:https://visitlycomingcounty.com/wp-content/uploads/2025/04/Hiawatha-logo.png
END:VEVENT
BEGIN:VEVENT
DTSTART;TZID=America/New_York:20250801T201500
DTEND;TZID=America/New_York:20250801T211500
DTSTAMP:20260424T050501
CREATED:20250716T150055Z
LAST-MODIFIED:20250724T152641Z
UID:10004537-1754079300-1754082900@visitlycomingcounty.com
SUMMARY:Summer's Ambience at Little Pine State Park
DESCRIPTION:Join the naturalist for a relaxing evening to hear summer’s ambience.  Topics of discussion will center around what is being heard.  This is designed to be an informal program. \nAll children must be accompanied by an adult in order to participate. \nProgram may be modified or cancelled in the event of severe weather or new state or community guidelines.  Meet at the boat launch.  Please bring a lawn chair.
URL:https://visitlycomingcounty.com/event/summers-ambience-at-little-pine-state-park/
LOCATION:Little Pine State Park\, 4205 Little Pine Creek Rd.\, Waterville\, PA\, 17776-9705\, United States
CATEGORIES:Events,Nature,Pine Creek Valley
ATTACH;FMTTYPE=image/jpeg:https://visitlycomingcounty.com/wp-content/uploads/2024/10/462855108_1071613984969964_1833466018336856361_n-Qwsl51.jpeg
GEO:41.360447236744;-77.353104816475
X-APPLE-STRUCTURED-LOCATION;VALUE=URI;X-ADDRESS=Little Pine State Park 4205 Little Pine Creek Rd. Waterville PA 17776-9705 United States;X-APPLE-RADIUS=500;X-TITLE=4205 Little Pine Creek Rd.:geo:-77.353104816475,41.360447236744
END:VEVENT
END:VCALENDAR