BEGIN:VCALENDAR
VERSION:2.0
PRODID:-//Lycoming County Visitor&#039;s Bureau - ECPv6.15.20//NONSGML v1.0//EN
CALSCALE:GREGORIAN
METHOD:PUBLISH
X-ORIGINAL-URL:https://visitlycomingcounty.com
X-WR-CALDESC:Events for Lycoming County Visitor&#039;s Bureau
REFRESH-INTERVAL;VALUE=DURATION:PT1H
X-Robots-Tag:noindex
X-PUBLISHED-TTL:PT1H
BEGIN:VTIMEZONE
TZID:America/New_York
BEGIN:DAYLIGHT
TZOFFSETFROM:-0500
TZOFFSETTO:-0400
TZNAME:EDT
DTSTART:20230312T070000
END:DAYLIGHT
BEGIN:STANDARD
TZOFFSETFROM:-0400
TZOFFSETTO:-0500
TZNAME:EST
DTSTART:20231105T060000
END:STANDARD
BEGIN:DAYLIGHT
TZOFFSETFROM:-0500
TZOFFSETTO:-0400
TZNAME:EDT
DTSTART:20240310T070000
END:DAYLIGHT
BEGIN:STANDARD
TZOFFSETFROM:-0400
TZOFFSETTO:-0500
TZNAME:EST
DTSTART:20241103T060000
END:STANDARD
BEGIN:DAYLIGHT
TZOFFSETFROM:-0500
TZOFFSETTO:-0400
TZNAME:EDT
DTSTART:20250309T070000
END:DAYLIGHT
BEGIN:STANDARD
TZOFFSETFROM:-0400
TZOFFSETTO:-0500
TZNAME:EST
DTSTART:20251102T060000
END:STANDARD
END:VTIMEZONE
BEGIN:VEVENT
DTSTART;TZID=America/New_York:20240709T080000
DTEND;TZID=America/New_York:20240709T170000
DTSTAMP:20260421T131008
CREATED:20210612T183650Z
LAST-MODIFIED:20240911T145914Z
UID:10003839-1720512000-1720544400@visitlycomingcounty.com
SUMMARY:Kid's Night Cruise
DESCRIPTION:Perfect for A Family Night Out – Join us for a good old fashioned ice cream social while you cruise down the Susquehanna River on this hour and a half cruise with a make-your-own sundae bar.\n 
URL:https://visitlycomingcounty.com/event/hiawatha-kids-night-cruise-2024-08-27/2024-07-09/
LOCATION:PA
ATTACH;FMTTYPE=image/jpeg:https://visitlycomingcounty.com/wp-content/uploads/2024/08/Hiawatha2002-2.jpg
END:VEVENT
BEGIN:VEVENT
DTSTART;TZID=America/New_York:20240709T180000
DTEND;TZID=America/New_York:20240709T193000
DTSTAMP:20260421T131008
CREATED:20210612T183650Z
LAST-MODIFIED:20240813T161001Z
UID:10000243-1720548000-1720553400@visitlycomingcounty.com
SUMMARY:Kid's Night Cruise
DESCRIPTION:Perfect for A Family Night Out – Join us for a good old fashioned ice cream social while you cruise down the Susquehanna River on this hour and a half cruise with a make-your-own sundae bar.\n 
URL:https://visitlycomingcounty.com/event/hiawatha-kids-night-cruise-2024-08-06/2024-07-09/
LOCATION:PA
ATTACH;FMTTYPE=image/jpeg:https://visitlycomingcounty.com/wp-content/uploads/2024/08/hiawatha-sign-4.jpg
END:VEVENT
END:VCALENDAR