BEGIN:VCALENDAR
VERSION:2.0
PRODID:-//Lycoming County Visitor&#039;s Bureau - ECPv6.15.20//NONSGML v1.0//EN
CALSCALE:GREGORIAN
METHOD:PUBLISH
X-WR-CALNAME:Lycoming County Visitor&#039;s Bureau
X-ORIGINAL-URL:https://visitlycomingcounty.com
X-WR-CALDESC:Events for Lycoming County Visitor&#039;s Bureau
REFRESH-INTERVAL;VALUE=DURATION:PT1H
X-Robots-Tag:noindex
X-PUBLISHED-TTL:PT1H
BEGIN:VTIMEZONE
TZID:America/New_York
BEGIN:DAYLIGHT
TZOFFSETFROM:-0500
TZOFFSETTO:-0400
TZNAME:EDT
DTSTART:20230312T070000
END:DAYLIGHT
BEGIN:STANDARD
TZOFFSETFROM:-0400
TZOFFSETTO:-0500
TZNAME:EST
DTSTART:20231105T060000
END:STANDARD
BEGIN:DAYLIGHT
TZOFFSETFROM:-0500
TZOFFSETTO:-0400
TZNAME:EDT
DTSTART:20240310T070000
END:DAYLIGHT
BEGIN:STANDARD
TZOFFSETFROM:-0400
TZOFFSETTO:-0500
TZNAME:EST
DTSTART:20241103T060000
END:STANDARD
BEGIN:DAYLIGHT
TZOFFSETFROM:-0500
TZOFFSETTO:-0400
TZNAME:EDT
DTSTART:20250309T070000
END:DAYLIGHT
BEGIN:STANDARD
TZOFFSETFROM:-0400
TZOFFSETTO:-0500
TZNAME:EST
DTSTART:20251102T060000
END:STANDARD
END:VTIMEZONE
BEGIN:VEVENT
DTSTART;TZID=America/New_York:20240613T183500
DTEND;TZID=America/New_York:20240613T183500
DTSTAMP:20260419T140451
CREATED:20240501T193336Z
LAST-MODIFIED:20240813T161137Z
UID:10000435-1718303700-1718303700@visitlycomingcounty.com
SUMMARY:Williamsport Crosscutters Baseball
DESCRIPTION:Come out to Historic Bowman Field and cheer on the Williamsport Crosscutters\, our MLB Draft League team\, as they play West Virginia.  Go Cutters!  Avoid the lines by buying your tickets online @ www.crosscutters.com.
URL:https://visitlycomingcounty.com/event/williamsport-crosscutters-baseball-5-2024-08-06/2024-06-13/
LOCATION:PA
CATEGORIES:Events,Sports
ATTACH;FMTTYPE=image/jpeg:https://visitlycomingcounty.com/wp-content/uploads/2024/08/CrossCutters.jpg
END:VEVENT
BEGIN:VEVENT
DTSTART;TZID=America/New_York:20240613T183500
DTEND;TZID=America/New_York:20240613T183500
DTSTAMP:20260419T140451
CREATED:20240501T193337Z
LAST-MODIFIED:20240813T161138Z
UID:10000440-1718303700-1718303700@visitlycomingcounty.com
SUMMARY:Williamsport Crosscutters Baseball
DESCRIPTION:Come out to Historic Bowman Field and cheer on the Williamsport Crosscutters\, our MLB Draft League team\, as they play West Virginia.  Go Cutters!  Avoid the lines by buying your tickets online @ www.crosscutters.com.
URL:https://visitlycomingcounty.com/event/williamsport-crosscutters-baseball-5-2024-08-07/2024-06-13/
LOCATION:PA
CATEGORIES:Events,Sports
ATTACH;FMTTYPE=image/jpeg:https://visitlycomingcounty.com/wp-content/uploads/2024/08/CrossCutters.jpg
END:VEVENT
BEGIN:VEVENT
DTSTART;TZID=America/New_York:20240613T183500
DTEND;TZID=America/New_York:20240613T183500
DTSTAMP:20260419T140451
CREATED:20240501T193337Z
LAST-MODIFIED:20240813T161139Z
UID:10000445-1718303700-1718303700@visitlycomingcounty.com
SUMMARY:Williamsport Crosscutters Baseball
DESCRIPTION:Come out to Historic Bowman Field and cheer on the Williamsport Crosscutters\, our MLB Draft League team\, as they play West Virginia.  Go Cutters!  Avoid the lines by buying your tickets online @ www.crosscutters.com.
URL:https://visitlycomingcounty.com/event/williamsport-crosscutters-baseball-5-2024-08-08/2024-06-13/
LOCATION:PA
CATEGORIES:Events,Sports
ATTACH;FMTTYPE=image/jpeg:https://visitlycomingcounty.com/wp-content/uploads/2024/08/CrossCutters.jpg
END:VEVENT
END:VCALENDAR